BEGIN:VCALENDAR
VERSION:2.0
PRODID:-//Scottish Palestine Solidarity Campaign - ECPv6.15.13//NONSGML v1.0//EN
CALSCALE:GREGORIAN
METHOD:PUBLISH
X-ORIGINAL-URL:https://www.scottishpsc.org.uk
X-WR-CALDESC:Events for Scottish Palestine Solidarity Campaign
REFRESH-INTERVAL;VALUE=DURATION:PT1H
X-Robots-Tag:noindex
X-PUBLISHED-TTL:PT1H
BEGIN:VTIMEZONE
TZID:Europe/London
BEGIN:DAYLIGHT
TZOFFSETFROM:+0000
TZOFFSETTO:+0100
TZNAME:BST
DTSTART:20240331T010000
END:DAYLIGHT
BEGIN:STANDARD
TZOFFSETFROM:+0100
TZOFFSETTO:+0000
TZNAME:GMT
DTSTART:20241027T010000
END:STANDARD
BEGIN:DAYLIGHT
TZOFFSETFROM:+0000
TZOFFSETTO:+0100
TZNAME:BST
DTSTART:20250330T010000
END:DAYLIGHT
BEGIN:STANDARD
TZOFFSETFROM:+0100
TZOFFSETTO:+0000
TZNAME:GMT
DTSTART:20251026T010000
END:STANDARD
BEGIN:DAYLIGHT
TZOFFSETFROM:+0000
TZOFFSETTO:+0100
TZNAME:BST
DTSTART:20260329T010000
END:DAYLIGHT
BEGIN:STANDARD
TZOFFSETFROM:+0100
TZOFFSETTO:+0000
TZNAME:GMT
DTSTART:20261025T010000
END:STANDARD
END:VTIMEZONE
BEGIN:VEVENT
DTSTART;TZID=Europe/London:20250811T120000
DTEND;TZID=Europe/London:20250811T140000
DTSTAMP:20260424T170309
CREATED:20251105T084216Z
LAST-MODIFIED:20251105T084216Z
UID:10003448-1754913600-1754920800@www.scottishpsc.org.uk
SUMMARY:Aberdeen Demo: No Justice\, No Peace!
DESCRIPTION:No justice\, no peace: accountability for Israel’s crimes now!\n\n\n\nWe gather to mourn the dead of Gaza\, and raise our voices against the crimes ongoing across the occupied Palestinian territories. The ‘ceasefire’ has not brought peace and it certainly has not brought accountability for the atrocities committed by the Israeli state and its supporters. We raise our voices against the colonialist and imperialist projects of Israel and its allies\, including our own Scottish and UK governments.\n\n\n\n\nJoin us this Saturday outside Aberdeen Art Gallery\, 12-2pm.
URL:https://www.scottishpsc.org.uk/event/aberdeen-demo-no-justice-no-peace/
LOCATION:Aberdeen Art Gallery\, Schoolhill\, ABERDEEN\, AB10 1FQ\, United Kingdom
CATEGORIES:Aberdeen
ATTACH;FMTTYPE=image/jpeg:https://www.scottishpsc.org.uk/wp-content/uploads/2025/11/signal-2025-11-04-233815_002.jpeg
ORGANIZER;CN="SPSC Aberdeen Branch":MAILTO:aberdeen@scottishpsc.org.uk
END:VEVENT
END:VCALENDAR