BEGIN:VCALENDAR
VERSION:2.0
PRODID:-//Scottish Palestine Solidarity Campaign - ECPv6.15.13//NONSGML v1.0//EN
CALSCALE:GREGORIAN
METHOD:PUBLISH
X-WR-CALNAME:Scottish Palestine Solidarity Campaign
X-ORIGINAL-URL:https://www.scottishpsc.org.uk
X-WR-CALDESC:Events for Scottish Palestine Solidarity Campaign
REFRESH-INTERVAL;VALUE=DURATION:PT1H
X-Robots-Tag:noindex
X-PUBLISHED-TTL:PT1H
BEGIN:VTIMEZONE
TZID:Europe/London
BEGIN:DAYLIGHT
TZOFFSETFROM:+0000
TZOFFSETTO:+0100
TZNAME:BST
DTSTART:20240331T010000
END:DAYLIGHT
BEGIN:STANDARD
TZOFFSETFROM:+0100
TZOFFSETTO:+0000
TZNAME:GMT
DTSTART:20241027T010000
END:STANDARD
BEGIN:DAYLIGHT
TZOFFSETFROM:+0000
TZOFFSETTO:+0100
TZNAME:BST
DTSTART:20250330T010000
END:DAYLIGHT
BEGIN:STANDARD
TZOFFSETFROM:+0100
TZOFFSETTO:+0000
TZNAME:GMT
DTSTART:20251026T010000
END:STANDARD
BEGIN:DAYLIGHT
TZOFFSETFROM:+0000
TZOFFSETTO:+0100
TZNAME:BST
DTSTART:20260329T010000
END:DAYLIGHT
BEGIN:STANDARD
TZOFFSETFROM:+0100
TZOFFSETTO:+0000
TZNAME:GMT
DTSTART:20261025T010000
END:STANDARD
END:VTIMEZONE
BEGIN:VEVENT
DTSTART;TZID=Europe/London:20251016T190000
DTEND;TZID=Europe/London:20251016T190000
DTSTAMP:20260424T123206
CREATED:20251012T183637Z
LAST-MODIFIED:20251012T183637Z
UID:10003424-1760641200-1760641200@www.scottishpsc.org.uk
SUMMARY:Stop the Genocide: Discussion with Toufic Haddad
DESCRIPTION:All are welcome to this public meeting : \nStop the Genocide: Reflections on why we must and how we will.\nA ceasefire in Gaza is the bare minimum. Let’s discuss how we must engage to achieve an end to 77 years of genocide\, occupation and ethnic cleansing in Palestine. With Palestinian academic and author Toufic Haddad. \nRead our statement and join the discussion! \nhttps://www.scottishpsc.org.uk/trump-calls-a-halt-to-israels-mass-killing-only-until-he-gets-his-nobel-peace-prize/
URL:https://www.scottishpsc.org.uk/event/stop-the-genocide-discussion-with-toufic-haddad/
LOCATION:Aberdeen Quaker Meeting House\, 98 Crown Street\, Aberdeen\, AB11 6HJ\, United Kingdom
CATEGORIES:Aberdeen
ATTACH;FMTTYPE=image/jpeg:https://www.scottishpsc.org.uk/wp-content/uploads/2025/10/Copy-of-9-Oct-2025-Ceasefire1.jpg
ORGANIZER;CN="SPSC Aberdeen Branch":MAILTO:aberdeen@scottishpsc.org.uk
END:VEVENT
END:VCALENDAR