BEGIN:VCALENDAR
VERSION:2.0
PRODID:-//Scottish Palestine Solidarity Campaign - ECPv6.15.13//NONSGML v1.0//EN
CALSCALE:GREGORIAN
METHOD:PUBLISH
X-WR-CALNAME:Scottish Palestine Solidarity Campaign
X-ORIGINAL-URL:https://www.scottishpsc.org.uk
X-WR-CALDESC:Events for Scottish Palestine Solidarity Campaign
REFRESH-INTERVAL;VALUE=DURATION:PT1H
X-Robots-Tag:noindex
X-PUBLISHED-TTL:PT1H
BEGIN:VTIMEZONE
TZID:Europe/London
BEGIN:DAYLIGHT
TZOFFSETFROM:+0000
TZOFFSETTO:+0100
TZNAME:BST
DTSTART:20240331T010000
END:DAYLIGHT
BEGIN:STANDARD
TZOFFSETFROM:+0100
TZOFFSETTO:+0000
TZNAME:GMT
DTSTART:20241027T010000
END:STANDARD
BEGIN:DAYLIGHT
TZOFFSETFROM:+0000
TZOFFSETTO:+0100
TZNAME:BST
DTSTART:20250330T010000
END:DAYLIGHT
BEGIN:STANDARD
TZOFFSETFROM:+0100
TZOFFSETTO:+0000
TZNAME:GMT
DTSTART:20251026T010000
END:STANDARD
BEGIN:DAYLIGHT
TZOFFSETFROM:+0000
TZOFFSETTO:+0100
TZNAME:BST
DTSTART:20260329T010000
END:DAYLIGHT
BEGIN:STANDARD
TZOFFSETFROM:+0100
TZOFFSETTO:+0000
TZNAME:GMT
DTSTART:20261025T010000
END:STANDARD
END:VTIMEZONE
BEGIN:VEVENT
DTSTART;TZID=Europe/London:20251227T120000
DTEND;TZID=Europe/London:20251227T130000
DTSTAMP:20260422T010427
CREATED:20251226T183506Z
LAST-MODIFIED:20251226T183626Z
UID:10003991-1766836800-1766840400@www.scottishpsc.org.uk
SUMMARY:Edinburgh Vigil: Health Workers 4 Palestine
DESCRIPTION:Health Workers 4 Palestine Edinburgh Vigil at St Giles Cathedral\nOn Saturday 27th of December at 12pm\, health workers will again gather for a vigil outside St Giles’ Cathedral\, on the High Street. \nThis is the final vigil of 2025 – it has been over 2 years of genocide and we will not stop. We will continue to raise our voices and stand on the right side of history. We stand in solidarity with the health workers being targeted in Gaza\, all our political prisoners\, the filton 24 and the hunger strikers. \nWe must use our voices to speak up for all those being silenced.\nFrom the river to the sea Palestine will be free ✊🇵🇸 \n  \nThis event is not organised by SPSC Edinburgh\, but members & supporters will attend and show support.
URL:https://www.scottishpsc.org.uk/event/edinburgh-vigil-health-workers-4-palestine-27-dec/
LOCATION:St Giles Cathedral\, High Street\, Edinburgh\, EH1 1RE\, United Kingdom
CATEGORIES:Edinburgh
ATTACH;FMTTYPE=image/png:https://www.scottishpsc.org.uk/wp-content/uploads/2025/12/Screenshot-2025-12-26-18.32.35.png
END:VEVENT
END:VCALENDAR