BEGIN:VCALENDAR
VERSION:2.0
PRODID:-//Scottish Palestine Solidarity Campaign - ECPv6.15.13//NONSGML v1.0//EN
CALSCALE:GREGORIAN
METHOD:PUBLISH
X-WR-CALNAME:Scottish Palestine Solidarity Campaign
X-ORIGINAL-URL:https://www.scottishpsc.org.uk
X-WR-CALDESC:Events for Scottish Palestine Solidarity Campaign
REFRESH-INTERVAL;VALUE=DURATION:PT1H
X-Robots-Tag:noindex
X-PUBLISHED-TTL:PT1H
BEGIN:VTIMEZONE
TZID:Europe/London
BEGIN:DAYLIGHT
TZOFFSETFROM:+0000
TZOFFSETTO:+0100
TZNAME:BST
DTSTART:20250330T010000
END:DAYLIGHT
BEGIN:STANDARD
TZOFFSETFROM:+0100
TZOFFSETTO:+0000
TZNAME:GMT
DTSTART:20251026T010000
END:STANDARD
BEGIN:DAYLIGHT
TZOFFSETFROM:+0000
TZOFFSETTO:+0100
TZNAME:BST
DTSTART:20260329T010000
END:DAYLIGHT
BEGIN:STANDARD
TZOFFSETFROM:+0100
TZOFFSETTO:+0000
TZNAME:GMT
DTSTART:20261025T010000
END:STANDARD
BEGIN:DAYLIGHT
TZOFFSETFROM:+0000
TZOFFSETTO:+0100
TZNAME:BST
DTSTART:20270328T010000
END:DAYLIGHT
BEGIN:STANDARD
TZOFFSETFROM:+0100
TZOFFSETTO:+0000
TZNAME:GMT
DTSTART:20271031T010000
END:STANDARD
END:VTIMEZONE
BEGIN:VEVENT
DTSTART;VALUE=DATE:20260212
DTEND;VALUE=DATE:20260213
DTSTAMP:20260420T131024
CREATED:20260125T145022Z
LAST-MODIFIED:20260125T145256Z
UID:10004161-1770854400-1770940799@www.scottishpsc.org.uk
SUMMARY:Workplace Day of Action for Palestine
DESCRIPTION:Workplace Day of Action for Palestine\nOn Thursday 12 February workers across Scotland are again being called on to take part in a Workplace Day of Action for Palestine. \nFrom local authority pension funds and public contracts to universities\, cultural institutions\, retail\, banking and manufacturing\, Scottish institutions remain entangled in systems that enable Israel’s genocide and apartheid against the Palestinian people. \nThe days of action are about workers organising where we are\, challenging that complicity\, and demanding boycott\, divestment and sanctions (BDS). \nFor your first time taking an action\, we suggest hosting a staff meeting to start conversations about how your workplace is complicit and launch your workplace campaign for Palestine. \nBut\, decide together what action makes sense for your workplace. \nNo action is too small.
URL:https://www.scottishpsc.org.uk/event/work-day-of-action-feb-26/
LOCATION:Nationwide\, United Kingdom
ATTACH;FMTTYPE=image/png:https://www.scottishpsc.org.uk/wp-content/uploads/2026/01/Workplace12Feb.png
ORGANIZER;CN="Scottish Palestine Solidarity Campaign":MAILTO:info@scottishpsc.org.uk
END:VEVENT
BEGIN:VEVENT
DTSTART;TZID=Europe/London:20260212T190000
DTEND;TZID=Europe/London:20260212T203000
DTSTAMP:20260420T131024
CREATED:20260204T131221Z
LAST-MODIFIED:20260204T131221Z
UID:10004168-1770922800-1770928200@www.scottishpsc.org.uk
SUMMARY:Scotland's 2026 Elections:  Ensuring Palestine is a key campaign priority
DESCRIPTION:Join Us for an Online Webinar \nScotland’s 2026 Elections: Ensuring Palestine Is a Key Campaign Priority \nRegister and attend this timely online webinar exploring how Palestine can and must remain central to Scotland’s political conversation ahead of the 2026 elections. \nHear from leading speakers as they discuss why Palestine matters in our politics\, the role Scottish political institutions can play\, and how campaigners and communities can push for meaningful accountability and action.
URL:https://www.scottishpsc.org.uk/event/scotlands-2026-elections-ensuring-palestine-is-a-key-campaign-priority/
CATEGORIES:Online event
ATTACH;FMTTYPE=image/jpeg:https://www.scottishpsc.org.uk/wp-content/uploads/2026/02/WhatsApp-Image-2026-02-04-at-12.21.45.jpeg
ORGANIZER;CN="Scottish Palestine Solidarity Campaign":MAILTO:info@scottishpsc.org.uk
LOCATION:
END:VEVENT
BEGIN:VEVENT
DTSTART;TZID=Europe/London:20260212T190000
DTEND;TZID=Europe/London:20260212T210000
DTSTAMP:20260420T131024
CREATED:20260120T104242Z
LAST-MODIFIED:20260120T104242Z
UID:10004153-1770922800-1770930000@www.scottishpsc.org.uk
SUMMARY:SPSC Borders - Put Your Soul on Your Hand and Walk
DESCRIPTION:Put Your Soul on Your Hand and Walk\nJoin SPSC Borders branch in Peebles on 12th Feb for a screening of ‘Put Your Soul on Your Hand and Walk’. \nDonations welcome.
URL:https://www.scottishpsc.org.uk/event/spsc-borders-put-your-soul-on-your-hand-and-walk/
LOCATION:Neighbourhood Centre\, 17 Rosetta Road\, Peebles\, EH45 8JU\, United Kingdom
CATEGORIES:Borders
ATTACH;FMTTYPE=image/jpeg:https://www.scottishpsc.org.uk/wp-content/uploads/2026/01/WhatsApp-Image-2026-01-19-at-21.18.35.jpeg
END:VEVENT
BEGIN:VEVENT
DTSTART;TZID=Europe/London:20260213T110000
DTEND;TZID=Europe/London:20260213T140000
DTSTAMP:20260420T131024
CREATED:20250908T220550Z
LAST-MODIFIED:20251221T204903Z
UID:10003142-1770980400-1770991200@www.scottishpsc.org.uk
SUMMARY:Glasgow: Forces Recruitment Office Demo
DESCRIPTION:Join us every Friday to protest the complicity of the UK Armed Forces in the genocide of Palestinians.\nFrom 11.00 – 14.00 at the Armed Forces Careers Office\, Charlotte House\, 82 Queen Street\, Glasgow G1 3DN. \nThe RAF has flown hundreds of surveillance flights over Gaza from the Akrotiri base in Cyprus. \nThey hand this footage over to the occupation forces. \nNot in our name.\nNot in our city. \nWe will be leafleting the public\, spreading awareness of the active participation of the UK military in the genocide. \n 
URL:https://www.scottishpsc.org.uk/event/glasgow-recruitment/2026-02-13/
LOCATION:Armed Forces Careers Office Glasgow\, 82 Queen Street\, Glasgow\, G1 3DN\, United Kingdom
CATEGORIES:Glasgow
ATTACH;FMTTYPE=image/jpeg:https://www.scottishpsc.org.uk/wp-content/uploads/2025/09/IMG-20250908-WA0009.jpg
END:VEVENT
BEGIN:VEVENT
DTSTART;TZID=Europe/London:20260214T093000
DTEND;TZID=Europe/London:20260214T130000
DTSTAMP:20260420T131024
CREATED:20250711T143827Z
LAST-MODIFIED:20250711T143827Z
UID:10002285-1771061400-1771074000@www.scottishpsc.org.uk
SUMMARY:Glasgow Barclays Protest
DESCRIPTION:Protest Barclay’s complicity and profiting from genocide\nBarclays is bankrolling Israel’s genocide against 2.3 million Palestinians in Gaza. \nA report published in 2024 detailed Barclay’s financial ties to companies producing weapons and military technology used in Israel’s attacks on Palestinians. \nIn addition\, Barclays has an agreement with Israel to act as a ‘primary dealer’ for its government bonds. This means it helps Israel directly to raise money to fund its genocide and apartheid against Palestinians. \nThe Palestinian BDS National Committee is calling on concerned people to boycott all Barclays services as well as for all financial institutions to divest from Barclays until the bank ends its grave complicity in Israel’s attacks on Palestinians\, \nJoin us for our weekly demonstration at Barclays Bank on Argyle Street.
URL:https://www.scottishpsc.org.uk/event/barclays-protest-glasgow/2026-02-14/
LOCATION:Barclays Bank – Argyle Street\, Glasgow\, 83 Argyle Street\, Glasgow\, G5 8DP\, United Kingdom
CATEGORIES:Glasgow
ATTACH;FMTTYPE=image/jpeg:https://www.scottishpsc.org.uk/wp-content/uploads/2025/06/5.jpg
ORGANIZER;CN="SPSC Glasgow Branch":MAILTO:glasgow@scottishpsc.org.uk
END:VEVENT
BEGIN:VEVENT
DTSTART;TZID=Europe/London:20260214T103000
DTEND;TZID=Europe/London:20260214T123000
DTSTAMP:20260420T131024
CREATED:20250612T202127Z
LAST-MODIFIED:20260219T112000Z
UID:10004598-1771065000-1771072200@www.scottishpsc.org.uk
SUMMARY:Edinburgh Barclays Protest
DESCRIPTION:Protest Barclay’s complicity and profiting from genocide\n\nBarclays is bankrolling Israel’s genocide against 2.3 million Palestinians in Gaza. \nA report published in 2024 detailed Barclay’s financial ties to companies producing weapons and military technology used in Israel’s attacks on Palestinians. \nIn addition\, Barclays has an agreement with Israel to act as a ‘primary dealer’ for its government bonds. This means it helps Israel directly to raise money to fund its genocide and apartheid against Palestinians. \nThe Palestinian BDS National Committee is calling on concerned people to boycott all Barclays services as well as for all financial institutions to divest from Barclays until the bank ends its grave complicity in Israel’s attacks on Palestinians\, \nJoin us for our bi-weekly (Wed & Sat) demonstrations at Barclays Bank on Princes Street (next to Apple store).
URL:https://www.scottishpsc.org.uk/event/edinburgh-barclays-protest-2-2/2026-02-14/
LOCATION:Barclays Bank Edinburgh\, 10-15 Princes St\, Edinburgh\, EH2 2AN
CATEGORIES:Edinburgh
ATTACH;FMTTYPE=image/png:https://www.scottishpsc.org.uk/wp-content/uploads/2025/04/SPSC-Logos-Thumbnails-EDIN.Profile.png
ORGANIZER;CN="SPSC Edinburgh Branch":MAILTO:edinburgh@scottishpsc.org.uk
END:VEVENT
BEGIN:VEVENT
DTSTART;TZID=Europe/London:20260214T123000
DTEND;TZID=Europe/London:20260214T143000
DTSTAMP:20260420T131024
CREATED:20260210T132244Z
LAST-MODIFIED:20260210T132419Z
UID:10004169-1771072200-1771079400@www.scottishpsc.org.uk
SUMMARY:Scottish National Demonstration: Resist Trump's Gangster Grab
DESCRIPTION:Resist Trump’s gangster grab on Gaza!\nTrump is trying to run the world like a mafia don. His ‘Board of Peace’ is a criminal front for genocidal accomplices in the gangland seizing of Gaza.\n\nPalestinians must decide their own future and have their indisputable rights respected. This brazen denial of Palestinian self-determination is a naked attempt to supplant the UN\, and an egregious assault on international law.\n\nTrump’s attempted takeover of Gaza is part of a global\, mafioso-styled expansion of empire through imperialist invasion\, kidnap and extortion – intimidations\, land grabs\, resource theft\, militarist policing\, and a ‘protection’ racket that imperils us all.\n\nSave Gaza and the world from Trump and his marauding mob!\n\nSaturday 14 February\nAssemble\, 12.30pm\, March at 1pm\nMcLennan Arch\,Saltmarket\, Glasgow Green\n 
URL:https://www.scottishpsc.org.uk/event/scottish-national-demo-14-feb-26/
LOCATION:Glasgow Green\, McLennan Arch\, Saltmarket\, Glasgow\, G1 5JZ\, United Kingdom
CATEGORIES:National demo
ATTACH;FMTTYPE=image/jpeg:https://www.scottishpsc.org.uk/wp-content/uploads/2026/02/81586.jpg
END:VEVENT
END:VCALENDAR