BEGIN:VCALENDAR
VERSION:2.0
PRODID:-//Scottish Palestine Solidarity Campaign - ECPv6.15.13//NONSGML v1.0//EN
CALSCALE:GREGORIAN
METHOD:PUBLISH
X-WR-CALNAME:Scottish Palestine Solidarity Campaign
X-ORIGINAL-URL:https://www.scottishpsc.org.uk
X-WR-CALDESC:Events for Scottish Palestine Solidarity Campaign
REFRESH-INTERVAL;VALUE=DURATION:PT1H
X-Robots-Tag:noindex
X-PUBLISHED-TTL:PT1H
BEGIN:VTIMEZONE
TZID:Europe/London
BEGIN:DAYLIGHT
TZOFFSETFROM:+0000
TZOFFSETTO:+0100
TZNAME:BST
DTSTART:20250330T010000
END:DAYLIGHT
BEGIN:STANDARD
TZOFFSETFROM:+0100
TZOFFSETTO:+0000
TZNAME:GMT
DTSTART:20251026T010000
END:STANDARD
BEGIN:DAYLIGHT
TZOFFSETFROM:+0000
TZOFFSETTO:+0100
TZNAME:BST
DTSTART:20260329T010000
END:DAYLIGHT
BEGIN:STANDARD
TZOFFSETFROM:+0100
TZOFFSETTO:+0000
TZNAME:GMT
DTSTART:20261025T010000
END:STANDARD
BEGIN:DAYLIGHT
TZOFFSETFROM:+0000
TZOFFSETTO:+0100
TZNAME:BST
DTSTART:20270328T010000
END:DAYLIGHT
BEGIN:STANDARD
TZOFFSETFROM:+0100
TZOFFSETTO:+0000
TZNAME:GMT
DTSTART:20271031T010000
END:STANDARD
END:VTIMEZONE
BEGIN:VEVENT
DTSTART;TZID=Europe/London:20260221T093000
DTEND;TZID=Europe/London:20260221T130000
DTSTAMP:20260420T171057
CREATED:20250711T143827Z
LAST-MODIFIED:20250711T143827Z
UID:10002286-1771666200-1771678800@www.scottishpsc.org.uk
SUMMARY:Glasgow Barclays Protest
DESCRIPTION:Protest Barclay’s complicity and profiting from genocide\nBarclays is bankrolling Israel’s genocide against 2.3 million Palestinians in Gaza. \nA report published in 2024 detailed Barclay’s financial ties to companies producing weapons and military technology used in Israel’s attacks on Palestinians. \nIn addition\, Barclays has an agreement with Israel to act as a ‘primary dealer’ for its government bonds. This means it helps Israel directly to raise money to fund its genocide and apartheid against Palestinians. \nThe Palestinian BDS National Committee is calling on concerned people to boycott all Barclays services as well as for all financial institutions to divest from Barclays until the bank ends its grave complicity in Israel’s attacks on Palestinians\, \nJoin us for our weekly demonstration at Barclays Bank on Argyle Street.
URL:https://www.scottishpsc.org.uk/event/barclays-protest-glasgow/2026-02-21/
LOCATION:Barclays Bank – Argyle Street\, Glasgow\, 83 Argyle Street\, Glasgow\, G5 8DP\, United Kingdom
CATEGORIES:Glasgow
ATTACH;FMTTYPE=image/jpeg:https://www.scottishpsc.org.uk/wp-content/uploads/2025/06/5.jpg
ORGANIZER;CN="SPSC Glasgow Branch":MAILTO:glasgow@scottishpsc.org.uk
END:VEVENT
BEGIN:VEVENT
DTSTART;TZID=Europe/London:20260221T110000
DTEND;TZID=Europe/London:20260221T130000
DTSTAMP:20260420T171057
CREATED:20260219T111907Z
LAST-MODIFIED:20260219T112229Z
UID:10004323-1771671600-1771678800@www.scottishpsc.org.uk
SUMMARY:Edinburgh Barclays Protest
DESCRIPTION:Protest Barclay’s complicity and profiting from genocide\nBarclays is bankrolling Israel’s genocide against 2.3 million Palestinians in Gaza. \nA report published in 2024 detailed Barclay’s financial ties to companies producing weapons and military technology used in Israel’s attacks on Palestinians. \nIn addition\, Barclays has an agreement with Israel to act as a ‘primary dealer’ for its government bonds. This means it helps Israel directly to raise money to fund its genocide and apartheid against Palestinians. \nThe Palestinian BDS National Committee is calling on concerned people to boycott all Barclays services as well as for all financial institutions to divest from Barclays until the bank ends its grave complicity in Israel’s attacks on Palestinians\, \nJoin us for our bi-weekly (Wed & Sat) demonstrations at Barclays Bank on Princes Street (next to Apple store).
URL:https://www.scottishpsc.org.uk/event/edinburgh-barclays-protest/
LOCATION:Barclays Bank Edinburgh\, 10-15 Princes St\, Edinburgh\, EH2 2AN
CATEGORIES:Edinburgh
ATTACH;FMTTYPE=image/jpeg:https://www.scottishpsc.org.uk/wp-content/uploads/2026/02/IMG-20260219-WA0006.jpg
ORGANIZER;CN="SPSC Edinburgh Branch":MAILTO:edinburgh@scottishpsc.org.uk
END:VEVENT
BEGIN:VEVENT
DTSTART;TZID=Europe/London:20260221T113000
DTEND;TZID=Europe/London:20260221T130000
DTSTAMP:20260420T171057
CREATED:20260215T150020Z
LAST-MODIFIED:20260215T150941Z
UID:10004189-1771673400-1771678800@www.scottishpsc.org.uk
SUMMARY:SPSC Aberdeen Branch: Barclays demo
DESCRIPTION:Barclays Bank continues to invest heavily in the infrastructure of death and destruction used to deliver Israel’s genocide\, occupation and apartheid.  This includes Palantir\, whose CEO has recently caught up in the Epstein files\, a tech company playing a lead role in the Israeli surveillance industry. \nJoin us from 11.30am to hear from a variety of speakers\, as well as a live link up with protests across the country. \nBarclays\, Barclays\, you can’t hide\, you are funding genocide!
URL:https://www.scottishpsc.org.uk/event/spsc-aberdeen-branch-barclays-demo/
LOCATION:Barclays Bank ABERDEEN\, 163-165 Union Street\, Aberdeen\, AB11 6SL\, United Kingdom
CATEGORIES:Aberdeen
ATTACH;FMTTYPE=image/jpeg:https://www.scottishpsc.org.uk/wp-content/uploads/2024/12/4.jpg
ORGANIZER;CN="SPSC Aberdeen Branch":MAILTO:aberdeen@scottishpsc.org.uk
END:VEVENT
BEGIN:VEVENT
DTSTART;TZID=Europe/London:20260222T130000
DTEND;TZID=Europe/London:20260222T143000
DTSTAMP:20260420T171057
CREATED:20260215T150907Z
LAST-MODIFIED:20260215T215231Z
UID:10004190-1771765200-1771770600@www.scottishpsc.org.uk
SUMMARY:SPSC Aberdeen: Apartheid Free Zones
DESCRIPTION:The Apartheid Free Zones campaign is an exciting global initiative to transform our local communities into spaces of solidarity with the Palestinian struggle for freedom\, equality and justice. \nApartheid Free Zones are growing across Scotland (and beyond)\, creating anti-racist communities and spaces linked together nationally and internationally\, to show the people of Palestine that they are not alone in their heroic struggle for liberation. \nAFZs allow each one of us to be part of an anti-racist collective movement for justice for Palestinians! \nJoin us for our latest session to engage local organisations and business\, while we attempt to add to the 54 already signed up in Aberdeen – check them out on the map here: www.apartheidfree.scot \nWe’ll meet at Cafe Osman’s\, one of our existing AFZs\, grab something to takeaway\, and head out at around 13:30. \nEmail aberdeen@scottishpsc.org.uk for more details \n 
URL:https://www.scottishpsc.org.uk/event/spsc-aberdeen-apartheid-free-zones/
LOCATION:Cafe Osman\, 262 George Street\, Aberdeen\, Aberdeen City\, AB25 1HN\, United Kingdom
ATTACH;FMTTYPE=image/jpeg:https://www.scottishpsc.org.uk/wp-content/uploads/2024/12/4.jpg
ORGANIZER;CN="SPSC Aberdeen Branch":MAILTO:aberdeen@scottishpsc.org.uk
END:VEVENT
END:VCALENDAR