BEGIN:VCALENDAR
VERSION:2.0
PRODID:-//Scottish Palestine Solidarity Campaign - ECPv6.15.13//NONSGML v1.0//EN
CALSCALE:GREGORIAN
METHOD:PUBLISH
X-WR-CALNAME:Scottish Palestine Solidarity Campaign
X-ORIGINAL-URL:https://www.scottishpsc.org.uk
X-WR-CALDESC:Events for Scottish Palestine Solidarity Campaign
REFRESH-INTERVAL;VALUE=DURATION:PT1H
X-Robots-Tag:noindex
X-PUBLISHED-TTL:PT1H
BEGIN:VTIMEZONE
TZID:Europe/London
BEGIN:DAYLIGHT
TZOFFSETFROM:+0000
TZOFFSETTO:+0100
TZNAME:BST
DTSTART:20260329T010000
END:DAYLIGHT
BEGIN:STANDARD
TZOFFSETFROM:+0100
TZOFFSETTO:+0000
TZNAME:GMT
DTSTART:20261025T010000
END:STANDARD
BEGIN:DAYLIGHT
TZOFFSETFROM:+0000
TZOFFSETTO:+0100
TZNAME:BST
DTSTART:20270328T010000
END:DAYLIGHT
BEGIN:STANDARD
TZOFFSETFROM:+0100
TZOFFSETTO:+0000
TZNAME:GMT
DTSTART:20271031T010000
END:STANDARD
BEGIN:DAYLIGHT
TZOFFSETFROM:+0000
TZOFFSETTO:+0100
TZNAME:BST
DTSTART:20280326T010000
END:DAYLIGHT
BEGIN:STANDARD
TZOFFSETFROM:+0100
TZOFFSETTO:+0000
TZNAME:GMT
DTSTART:20281029T010000
END:STANDARD
END:VTIMEZONE
BEGIN:VEVENT
DTSTART;TZID=Europe/London:20270830T190000
DTEND;TZID=Europe/London:20270830T210000
DTSTAMP:20260424T165203
CREATED:20250804T170926Z
LAST-MODIFIED:20260102T142315Z
UID:10004036-1819652400-1819659600@www.scottishpsc.org.uk
SUMMARY:SPSC Glasgow Branch Members Meeting
DESCRIPTION:Join our meeting to discuss local events\, actions and solidarity in the Glasgow area. \nThis meeting is for members and will take place at The Ark\, if you are not yet a member you are welcome to come along\, find out more about our campaigns and join up. \nOur normal meeting schedule for 2026\, is every second Monday.
URL:https://www.scottishpsc.org.uk/event/spsc-glasgow-branch-meeting-2-2-2/2027-08-30/
LOCATION:The Ark\, 70 Coplaw Street\, Glasgow\, G42 7JG\, United Kingdom
CATEGORIES:Glasgow
ATTACH;FMTTYPE=image/jpeg:https://www.scottishpsc.org.uk/wp-content/uploads/2024/12/5.jpg
ORGANIZER;CN="SPSC Glasgow Branch":MAILTO:glasgow@scottishpsc.org.uk
END:VEVENT
END:VCALENDAR