BEGIN:VCALENDAR
VERSION:2.0
PRODID:-//Scottish Palestine Solidarity Campaign - ECPv6.15.13//NONSGML v1.0//EN
CALSCALE:GREGORIAN
METHOD:PUBLISH
X-ORIGINAL-URL:https://www.scottishpsc.org.uk
X-WR-CALDESC:Events for Scottish Palestine Solidarity Campaign
REFRESH-INTERVAL;VALUE=DURATION:PT1H
X-Robots-Tag:noindex
X-PUBLISHED-TTL:PT1H
BEGIN:VTIMEZONE
TZID:Europe/London
BEGIN:DAYLIGHT
TZOFFSETFROM:+0000
TZOFFSETTO:+0100
TZNAME:BST
DTSTART:20240331T010000
END:DAYLIGHT
BEGIN:STANDARD
TZOFFSETFROM:+0100
TZOFFSETTO:+0000
TZNAME:GMT
DTSTART:20241027T010000
END:STANDARD
BEGIN:DAYLIGHT
TZOFFSETFROM:+0000
TZOFFSETTO:+0100
TZNAME:BST
DTSTART:20250330T010000
END:DAYLIGHT
BEGIN:STANDARD
TZOFFSETFROM:+0100
TZOFFSETTO:+0000
TZNAME:GMT
DTSTART:20251026T010000
END:STANDARD
BEGIN:DAYLIGHT
TZOFFSETFROM:+0000
TZOFFSETTO:+0100
TZNAME:BST
DTSTART:20260329T010000
END:DAYLIGHT
BEGIN:STANDARD
TZOFFSETFROM:+0100
TZOFFSETTO:+0000
TZNAME:GMT
DTSTART:20261025T010000
END:STANDARD
END:VTIMEZONE
BEGIN:VEVENT
DTSTART;TZID=Europe/London:20251006T190000
DTEND;TZID=Europe/London:20251006T210000
DTSTAMP:20260424T131029
CREATED:20251001T134128Z
LAST-MODIFIED:20251001T134259Z
UID:10003406-1759777200-1759784400@www.scottishpsc.org.uk
SUMMARY:SPSC East Lothian Branch: Members Meeting
DESCRIPTION:SPSC East Lothian Branch meeting\nMembers are invited to the first meeting of the SPSC East Lothian Branch\, this takes place at Dunbar Town House\, High St\, Dunbar EH42 1ER on Monday 6 October at 7pm. \nThis is an opportunity to learn more about SPSC\, our history\, approach to solidarity work\, and priority campaigns. We will discuss how we can continue to collaborate with the existing network of activists and organisations in East Lothian to maximise our collective impact in support of Palestinian rights and to end the genocide. \nPlease REGISTER HERE: https://bit.ly/elothianmtg \nIf you are not yet an SPSC member\, you can join on our website: \nwww.scottishpsc.org.uk
URL:https://www.scottishpsc.org.uk/event/spsc-el-branch-members-meeting/
LOCATION:Dunbar Town House\, High Street\, Dunbar\, EH42 1ER\, United Kingdom
CATEGORIES:East Lothian
ATTACH;FMTTYPE=image/jpeg:https://www.scottishpsc.org.uk/wp-content/uploads/2025/10/IMG-20251001-WA0008.jpg
ORGANIZER;CN="Scottish Palestine Solidarity Campaign":MAILTO:info@scottishpsc.org.uk
END:VEVENT
END:VCALENDAR