BEGIN:VCALENDAR
VERSION:2.0
PRODID:-//Scottish Palestine Solidarity Campaign - ECPv6.15.13//NONSGML v1.0//EN
CALSCALE:GREGORIAN
METHOD:PUBLISH
X-ORIGINAL-URL:https://www.scottishpsc.org.uk
X-WR-CALDESC:Events for Scottish Palestine Solidarity Campaign
REFRESH-INTERVAL;VALUE=DURATION:PT1H
X-Robots-Tag:noindex
X-PUBLISHED-TTL:PT1H
BEGIN:VTIMEZONE
TZID:Europe/London
BEGIN:DAYLIGHT
TZOFFSETFROM:+0000
TZOFFSETTO:+0100
TZNAME:BST
DTSTART:20240331T010000
END:DAYLIGHT
BEGIN:STANDARD
TZOFFSETFROM:+0100
TZOFFSETTO:+0000
TZNAME:GMT
DTSTART:20241027T010000
END:STANDARD
BEGIN:DAYLIGHT
TZOFFSETFROM:+0000
TZOFFSETTO:+0100
TZNAME:BST
DTSTART:20250330T010000
END:DAYLIGHT
BEGIN:STANDARD
TZOFFSETFROM:+0100
TZOFFSETTO:+0000
TZNAME:GMT
DTSTART:20251026T010000
END:STANDARD
BEGIN:DAYLIGHT
TZOFFSETFROM:+0000
TZOFFSETTO:+0100
TZNAME:BST
DTSTART:20260329T010000
END:DAYLIGHT
BEGIN:STANDARD
TZOFFSETFROM:+0100
TZOFFSETTO:+0000
TZNAME:GMT
DTSTART:20261025T010000
END:STANDARD
END:VTIMEZONE
BEGIN:VEVENT
DTSTART;TZID=Europe/London:20251213T120000
DTEND;TZID=Europe/London:20251213T130000
DTSTAMP:20260424T165203
CREATED:20251211T213356Z
LAST-MODIFIED:20251211T213356Z
UID:10003765-1765627200-1765630800@www.scottishpsc.org.uk
SUMMARY:Edinburgh Vigil: Health Workers 4 Palestine
DESCRIPTION:Health Workers 4 Palestine Edinburgh Vigil at St Giles Cathedral\nOn Saturday 13th of December at 12pm\, health workers will gather for a vigil outside St Giles’ Cathedral\, on the High Street. \nComing together to honour lives lost\, to stand with colleagues in Gaza\, raising voices while the world witnesses an ongoing genocide. \nThis week’s vigil will include: \n\nA short talk on Dr. Husam Abu Saffiya’s incarceration\nA talk on childhood mortality in Gaza\nInformation on the release of the new booklet by one of healthcare workers 4 Palestine team and more ways to stand together in solidarity\n\nYour presence matters. Your voice matters. Please join us\, stand with us\, and refuse to look away. \n#HealthcareWorkers For Palestine \n#VigilForGaza \n#CeasefireNow #FreePalestine #StandInSolidarity \nHealthcare Workers refuse to be silenced \nThis event is not organised by SPSC Edinburgh\, but members & supporters may wish to attend and show support.
URL:https://www.scottishpsc.org.uk/event/vigil-healthcare-workers-we-will-not-be-silenced/
LOCATION:St Giles Cathedral\, High Street\, Edinburgh\, EH1 1RE\, United Kingdom
CATEGORIES:Edinburgh
ATTACH;FMTTYPE=image/jpeg:https://www.scottishpsc.org.uk/wp-content/uploads/2025/12/70316.jpg
END:VEVENT
END:VCALENDAR