BEGIN:VCALENDAR
VERSION:2.0
PRODID:-//Scottish Palestine Solidarity Campaign - ECPv6.15.13//NONSGML v1.0//EN
CALSCALE:GREGORIAN
METHOD:PUBLISH
X-ORIGINAL-URL:https://www.scottishpsc.org.uk
X-WR-CALDESC:Events for Scottish Palestine Solidarity Campaign
REFRESH-INTERVAL;VALUE=DURATION:PT1H
X-Robots-Tag:noindex
X-PUBLISHED-TTL:PT1H
BEGIN:VTIMEZONE
TZID:Europe/London
BEGIN:DAYLIGHT
TZOFFSETFROM:+0000
TZOFFSETTO:+0100
TZNAME:BST
DTSTART:20250330T010000
END:DAYLIGHT
BEGIN:STANDARD
TZOFFSETFROM:+0100
TZOFFSETTO:+0000
TZNAME:GMT
DTSTART:20251026T010000
END:STANDARD
BEGIN:DAYLIGHT
TZOFFSETFROM:+0000
TZOFFSETTO:+0100
TZNAME:BST
DTSTART:20260329T010000
END:DAYLIGHT
BEGIN:STANDARD
TZOFFSETFROM:+0100
TZOFFSETTO:+0000
TZNAME:GMT
DTSTART:20261025T010000
END:STANDARD
BEGIN:DAYLIGHT
TZOFFSETFROM:+0000
TZOFFSETTO:+0100
TZNAME:BST
DTSTART:20270328T010000
END:DAYLIGHT
BEGIN:STANDARD
TZOFFSETFROM:+0100
TZOFFSETTO:+0000
TZNAME:GMT
DTSTART:20271031T010000
END:STANDARD
END:VTIMEZONE
BEGIN:VEVENT
DTSTART;TZID=Europe/London:20260129T180000
DTEND;TZID=Europe/London:20260129T183000
DTSTAMP:20260419T200206
CREATED:20260122T000204Z
LAST-MODIFIED:20260125T152847Z
UID:10004159-1769709600-1769711400@www.scottishpsc.org.uk
SUMMARY:Remembering Hind Rajab: Edinburgh Vigil
DESCRIPTION:Candlelight Vigil for Hind Rajab \nWe invite you to join us for a candlelight vigil in memory of Hind Rajab\, held on the second anniversary of her death. \nHind was only five years old when she was murdered by Israeli occupation forces. \nTrapped in a car and pleading for help. She was shot at over 355 times. \nThis vigil will honour her life and the memory of all other Palestinian children killed in the ongoing genocide. \nThe vigil will take place on Thursday\, January 29\, from 6.00pm at the Foot of The Mound. \nDuring the vigil\, we will hold a candle lighting ceremony\, and observe a moment of silence for remembrance and reflection.
URL:https://www.scottishpsc.org.uk/event/edinburgh-vigil-hind/
LOCATION:Foot of the Mound\, Princes St\, Edinburgh\, EH2 2EL\, United Kingdom
CATEGORIES:Edinburgh
ATTACH;FMTTYPE=image/png:https://www.scottishpsc.org.uk/wp-content/uploads/2026/01/Hind2.png
ORGANIZER;CN="SPSC Edinburgh Branch":MAILTO:edinburgh@scottishpsc.org.uk
END:VEVENT
END:VCALENDAR