BEGIN:VCALENDAR
VERSION:2.0
PRODID:-//Scottish Palestine Solidarity Campaign - ECPv6.15.13//NONSGML v1.0//EN
CALSCALE:GREGORIAN
METHOD:PUBLISH
X-WR-CALNAME:Scottish Palestine Solidarity Campaign
X-ORIGINAL-URL:https://www.scottishpsc.org.uk
X-WR-CALDESC:Events for Scottish Palestine Solidarity Campaign
REFRESH-INTERVAL;VALUE=DURATION:PT1H
X-Robots-Tag:noindex
X-PUBLISHED-TTL:PT1H
BEGIN:VTIMEZONE
TZID:Europe/London
BEGIN:DAYLIGHT
TZOFFSETFROM:+0000
TZOFFSETTO:+0100
TZNAME:BST
DTSTART:20240331T010000
END:DAYLIGHT
BEGIN:STANDARD
TZOFFSETFROM:+0100
TZOFFSETTO:+0000
TZNAME:GMT
DTSTART:20241027T010000
END:STANDARD
BEGIN:DAYLIGHT
TZOFFSETFROM:+0000
TZOFFSETTO:+0100
TZNAME:BST
DTSTART:20250330T010000
END:DAYLIGHT
BEGIN:STANDARD
TZOFFSETFROM:+0100
TZOFFSETTO:+0000
TZNAME:GMT
DTSTART:20251026T010000
END:STANDARD
BEGIN:DAYLIGHT
TZOFFSETFROM:+0000
TZOFFSETTO:+0100
TZNAME:BST
DTSTART:20260329T010000
END:DAYLIGHT
BEGIN:STANDARD
TZOFFSETFROM:+0100
TZOFFSETTO:+0000
TZNAME:GMT
DTSTART:20261025T010000
END:STANDARD
BEGIN:DAYLIGHT
TZOFFSETFROM:+0000
TZOFFSETTO:+0100
TZNAME:BST
DTSTART:20270328T010000
END:DAYLIGHT
BEGIN:STANDARD
TZOFFSETFROM:+0100
TZOFFSETTO:+0000
TZNAME:GMT
DTSTART:20271031T010000
END:STANDARD
END:VTIMEZONE
BEGIN:VEVENT
DTSTART;TZID=Europe/London:20260424T110000
DTEND;TZID=Europe/London:20260424T120000
DTSTAMP:20260424T223524
CREATED:20260415T123709Z
LAST-MODIFIED:20260415T123803Z
UID:10004646-1777028400-1777032000@www.scottishpsc.org.uk
SUMMARY:Workers Memorial Ceremony - West Lothian
DESCRIPTION:West Lothian Trades Council\, Workers’ Memorial Day Commemoration\nThe annual commemoration takes place at Balbardie Park of Peace on Friday 24 April at 11.00. \nInternational Workers’ Memorial Day is the day we remember workers across the world who have paid the ultimate price in their workplaces. \nThis may be as a result of health and safety negligence\, or in the case of Palestinian workers\, the deliberate targeting and slaughter of those doing their jobs. \nThe SPSC Trade Union Working group encourage activists to attend and pay your respects. \nCome along and help us to “Remember the Dead and Fight for the Living”
URL:https://www.scottishpsc.org.uk/event/workers-memorial-ceremony-west-lothian/
LOCATION:Balbardie Park of Peace\, Bathgate\, EH48 4LB\, United Kingdom
CATEGORIES:Edinburgh,West Lothian
ATTACH;FMTTYPE=image/jpeg:https://www.scottishpsc.org.uk/wp-content/uploads/2026/04/IMG-20260413-WA0000.jpg
END:VEVENT
BEGIN:VEVENT
DTSTART;TZID=Europe/London:20260411T100000
DTEND;TZID=Europe/London:20260411T170000
DTSTAMP:20260424T223524
CREATED:20260201T215110Z
LAST-MODIFIED:20260309T190557Z
UID:10004163-1775901600-1775926800@www.scottishpsc.org.uk
SUMMARY:Workers Day School for Palestine
DESCRIPTION:Workers Day School for Palestine\, Saturday 11th April\, Edinburgh\nThis day school is for workers and activists who are interested in workplace and union organising for Palestine. The purpose is to:\n\nDevelop skills and knowledge to support workplace organising and campaigns.\nLearn from experienced organisers in different sectors in Scotland and from organisers of successful workplace actions on Palestine in different countries.\nCreate a forum to share experiences and connect workers from across Scotland who are committed to grassroots\, workplace organising on Palestine.\n\nThe day school will be a mixture of workshops and training\, panels and discussion. This day school does not require any pre-existing experience with union organising\, but is most suited to those who can put what they learn into practice\, either in a current workplace or as activists involved in a worker-focused campaign.\nREGISTER\nSUPPORT\nDownload Flyer\n 
URL:https://www.scottishpsc.org.uk/event/workers-day-school-for-palestine/
LOCATION:Augustine Church\, George IV Bridge\, Edinburgh\, EH1 1EL\, United Kingdom
CATEGORIES:Edinburgh
ATTACH;FMTTYPE=image/jpeg:https://www.scottishpsc.org.uk/wp-content/uploads/2026/02/Poster1_page-0001.jpg
ORGANIZER;CN="Scottish Palestine Solidarity Campaign":MAILTO:info@scottishpsc.org.uk
END:VEVENT
BEGIN:VEVENT
DTSTART;TZID=Europe/London:20260409T190000
DTEND;TZID=Europe/London:20260409T210000
DTSTAMP:20260424T223524
CREATED:20260314T230617Z
LAST-MODIFIED:20260328T115517Z
UID:10004617-1775761200-1775768400@www.scottishpsc.org.uk
SUMMARY:Speaker event: Erik Helgeson\, Swedish Dockworkers Union
DESCRIPTION:Erik Helgeson\, Vice-Chair of the Swedish Dockworkers’ Union\nJoin us for a rare opportunity to learn from a high profile International trade union activist\nDockworker and trade union activist Erik Helgeson is coming to Scotland to share lessons from the front line of international labour solidarity! \nAs a leading figure in the Swedish Dockworkers’ Union\, Erik helped organise bold industrial action for Palestine and has became a symbol of workers standing up for their principles in the face of union-busting attacks. \nHe will describe how his employer seized on the action\, using it as a pretext to dismiss him\, the case is now proceeding through the Swedish Labour Courts.  \nAn international fundraising campaign has enabled the union to employ Erik directly allowing him to continue to carry out his responsibilities sending a clear message to the port employers that union-busting will not pay off. \nJoin us for a powerful discussion on how workers can act ethically and strategically on international issues. \nWe will look at worker power\, union democracy\, and what Scottish trade unionists can learn from struggles for Palestine in workplaces across the world – and crucially how we can take action of our own. \nErik is also speaking in Glasgow and in Edinburgh at the Workers Day School for Palestine. \nREGISTER NOW
URL:https://www.scottishpsc.org.uk/event/speaker-event-erik-helgeson-aberdeen/
LOCATION:Aberdeen Quaker Meeting House\, 98 Crown Street\, Aberdeen\, AB11 6HJ\, United Kingdom
CATEGORIES:Aberdeen,Speaker tour
ATTACH;FMTTYPE=image/png:https://www.scottishpsc.org.uk/wp-content/uploads/2026/03/Erik-Helgeson-leaflet.png
ORGANIZER;CN="Scottish Palestine Solidarity Campaign":MAILTO:info@scottishpsc.org.uk
END:VEVENT
BEGIN:VEVENT
DTSTART;TZID=Europe/London:20260408T190000
DTEND;TZID=Europe/London:20260408T210000
DTSTAMP:20260424T223524
CREATED:20260314T233121Z
LAST-MODIFIED:20260328T115331Z
UID:10004618-1775674800-1775682000@www.scottishpsc.org.uk
SUMMARY:Speaker event: Erik Helgeson\, Swedish Dockworkers Union
DESCRIPTION:Erik Helgeson\, Vice-Chair of the Swedish Dockworkers’ Union\nJoin us for a rare opportunity to learn from a high profile International trade union activist\nDockworker and trade union activist Erik Helgeson is coming to Scotland to share lessons from the front line of international labour solidarity! \nAs a leading figure in the Swedish Dockworkers’ Union\, Erik helped organise bold industrial action for Palestine and has became a symbol of workers standing up for their principles in the face of union-busting attacks. \nHe will describe how his employer seized on the action\, using it as a pretext to dismiss him\, the case is now proceeding through the Swedish Labour Courts.  \nAn international fundraising campaign has enabled the union to employ Erik directly allowing him to continue to carry out his responsibilities sending a clear message to the port employers that union-busting will not pay off. \nJoin us for a powerful discussion on how workers can act ethically and strategically on international issues. \nWe will look at worker power\, union democracy\, and what Scottish trade unionists can learn from struggles for Palestine in workplaces across the world – and crucially how we can take action of our own. \nErik is also speaking in Aberdeen and in Edinburgh at the Workers Day School for Palestine. \nREGISTER NOW
URL:https://www.scottishpsc.org.uk/event/speaker-event-erik-helgeson-swedish-dockworkers-union-glasgow/
LOCATION:Unison Offices\, 16 Albion Street\, Glasgow\, G1 1LH\, United Kingdom
CATEGORIES:Glasgow,Speaker tour
ATTACH;FMTTYPE=image/png:https://www.scottishpsc.org.uk/wp-content/uploads/2026/03/Erik-Helgeson-leaflet.png
ORGANIZER;CN="Scottish Palestine Solidarity Campaign":MAILTO:info@scottishpsc.org.uk
END:VEVENT
BEGIN:VEVENT
DTSTART;TZID=Europe/London:20251129T103000
DTEND;TZID=Europe/London:20251129T130000
DTSTAMP:20260424T223524
CREATED:20251127T085725Z
LAST-MODIFIED:20251127T085757Z
UID:10003746-1764412200-1764421200@www.scottishpsc.org.uk
SUMMARY:Palestine Bloc: STUC Anti-Racism March
DESCRIPTION:STUC Anti-Racism and Anti-Fascism March\nAssemble from 10.30 at Barrowlands Park\, G1 5BG\, march off at 11.00. \nWe are joining the march and rally\, and will be handing out leaflets emphasising the importance of opposing all racist ideologies\, including Zionism. \nEvery year for St Andrew’s Day\, the STUC organises an Anti-Racism and Anti-Fascism march in Glasgow\, highlighting Scotland’s long-standing commitment to inclusivity\, solidarity with refugees\, and our rejection of the far-right. \nThe theme of this year’s march and rally is Stand Up\, Speak Out: Unite Against Racism!\, which shows that despite institutional and everyday challenges\, there is enduring strength in solidarity among the anti-racist and anti-fascist movement in Scotland. \nSaturday\, 29 November 2025\, assemble from 10:30 at Barrowlands Park for march to Adelaide Place\, 209 Bath Street\, Glasgow\, G2 4HZ for an indoor rally at 12pm. \nStand Up\, Speak Out: Unite Against Zionism!
URL:https://www.scottishpsc.org.uk/event/stuc-anti-racism-2025/
LOCATION:Barrowlands Park\, Gallowgate\, Glasgow\, G1 5BG\, United Kingdom
CATEGORIES:Glasgow
ATTACH;FMTTYPE=image/jpeg:https://www.scottishpsc.org.uk/wp-content/uploads/2025/11/insta_portrait_1080x1350.jpg
END:VEVENT
END:VCALENDAR