BEGIN:VCALENDAR
VERSION:2.0
PRODID:-//Scottish Palestine Solidarity Campaign - ECPv6.15.13//NONSGML v1.0//EN
CALSCALE:GREGORIAN
METHOD:PUBLISH
X-WR-CALNAME:Scottish Palestine Solidarity Campaign
X-ORIGINAL-URL:https://www.scottishpsc.org.uk
X-WR-CALDESC:Events for Scottish Palestine Solidarity Campaign
REFRESH-INTERVAL;VALUE=DURATION:PT1H
X-Robots-Tag:noindex
X-PUBLISHED-TTL:PT1H
BEGIN:VTIMEZONE
TZID:Europe/London
BEGIN:DAYLIGHT
TZOFFSETFROM:+0000
TZOFFSETTO:+0100
TZNAME:BST
DTSTART:20240331T010000
END:DAYLIGHT
BEGIN:STANDARD
TZOFFSETFROM:+0100
TZOFFSETTO:+0000
TZNAME:GMT
DTSTART:20241027T010000
END:STANDARD
BEGIN:DAYLIGHT
TZOFFSETFROM:+0000
TZOFFSETTO:+0100
TZNAME:BST
DTSTART:20250330T010000
END:DAYLIGHT
BEGIN:STANDARD
TZOFFSETFROM:+0100
TZOFFSETTO:+0000
TZNAME:GMT
DTSTART:20251026T010000
END:STANDARD
BEGIN:DAYLIGHT
TZOFFSETFROM:+0000
TZOFFSETTO:+0100
TZNAME:BST
DTSTART:20260329T010000
END:DAYLIGHT
BEGIN:STANDARD
TZOFFSETFROM:+0100
TZOFFSETTO:+0000
TZNAME:GMT
DTSTART:20261025T010000
END:STANDARD
END:VTIMEZONE
BEGIN:VEVENT
DTSTART;TZID=Europe/London:20251122T130000
DTEND;TZID=Europe/London:20251122T160000
DTSTAMP:20260423T070659
CREATED:20251116T204314Z
LAST-MODIFIED:20251116T204314Z
UID:10003732-1763816400-1763827200@www.scottishpsc.org.uk
SUMMARY:Scottish National Demonstration:Stand Firm in Solidarity
DESCRIPTION:JOIN US for the National demonstration on Saturday 22 November.\nNATIONAL DEMO in EDINBURGH \n❗️Israel continues to violate Gaza ceasefire\n❗️Details of lsrael’s barbaric rape and torture of Palestinians revealed\n❗️Israeli parliament votes to execute Palestinian political prisoners\n❗️Israeli colonists attack Palestinian homes\, villages\, and mosques \nWE STAND FIRM IN OUR SOLIDARITY WITH PALESTINE:\n💥No business with war criminals!\n💥Boycott & isolate israel!\n💥Organise\, mobilise\, ESCALATE! \n📅SAT 22ND NOVEMBER\n⏰️ASSEMBLE 1 PM\n📍LAWNMARKET- march to SCOTTISH PARLIAMENT \nMOBILISE as many individuals\, communities\, and organisations as possible\, and COLLABORATE across Scotland for a massive turnout of Scottish civil society.
URL:https://www.scottishpsc.org.uk/event/scottish-national-demo-stand-firm/
LOCATION:Lawnmarket\, Edinburgh\, EH1 2NT\, United Kingdom
CATEGORIES:National demo
ATTACH;FMTTYPE=image/jpeg:https://www.scottishpsc.org.uk/wp-content/uploads/2025/11/IMG-20251116-WA0015.jpg
END:VEVENT
BEGIN:VEVENT
DTSTART;TZID=Europe/London:20251018T130000
DTEND;TZID=Europe/London:20251018T160000
DTSTAMP:20260423T070659
CREATED:20251014T212427Z
LAST-MODIFIED:20251014T213148Z
UID:10003433-1760792400-1760803200@www.scottishpsc.org.uk
SUMMARY:From Ceasefire to Liberation: All Out For Gaza
DESCRIPTION:EGGEC Demo – From Ceasefire to Liberation – All out for Gaza!\nNo Colonial ‘Peace’ – Demand Liberation \nEnd the occupation\nFree Palestine\n\nFoot of the mound – marching to UK Government Building at Queen Elizabeth house.
URL:https://www.scottishpsc.org.uk/event/demonstration-alloutforgaza/
LOCATION:Foot of the Mound\, Princes St\, Edinburgh\, EH2 2EL\, United Kingdom
CATEGORIES:Edinburgh
ATTACH;FMTTYPE=image/jpeg:https://www.scottishpsc.org.uk/wp-content/uploads/2025/10/56543.jpg
END:VEVENT
BEGIN:VEVENT
DTSTART;TZID=Europe/London:20251011T123000
DTEND;TZID=Europe/London:20251011T143000
DTSTAMP:20260423T070659
CREATED:20251001T134825Z
LAST-MODIFIED:20251001T134920Z
UID:10003407-1760185800-1760193000@www.scottishpsc.org.uk
SUMMARY:Scottish National Demonstration: Another Year of Genocide
DESCRIPTION:JOIN US FOR THE NATIONAL DEMONSTRATION on Saturday 11 October\nGather at the McLennan Arch\, Glasgow Green at 12.30\n\nAnother year of genocide.\nEmergency sanctions.\nOne true solution for Palestine. \nANOTHER YEAR OF GENOCIDE\nWalk to honour the slaughtered\, displaced and starving of Gaza. \nSOS FOR BDS\nEmergency measures.\nBoycott\, Divestment and Sanctions to end the genocide. \nONE RIGHTFUL SOLUTION\nA full and just state of Palestine. Our cause grows stronger by the day. \n📅 Saturday 11 October\n🕧 12.30pm\n📍 McLennan Arch\, Glasgow Green
URL:https://www.scottishpsc.org.uk/event/scottish-national-demonstration-october25/
LOCATION:Glasgow Green\, McLennan Arch\, Saltmarket\, Glasgow\, G1 5JZ\, United Kingdom
CATEGORIES:National demo
ATTACH;FMTTYPE=image/jpeg:https://www.scottishpsc.org.uk/wp-content/uploads/2025/10/IMG-20250930-WA0011.jpg
END:VEVENT
BEGIN:VEVENT
DTSTART;TZID=Europe/London:20251004T130000
DTEND;TZID=Europe/London:20251004T150000
DTSTAMP:20260423T070659
CREATED:20251001T135534Z
LAST-MODIFIED:20251001T135534Z
UID:10003408-1759582800-1759590000@www.scottishpsc.org.uk
SUMMARY:Edinburgh: Rally Against Repression! Stop the Genocide!
DESCRIPTION:Join us on Saturday 4 October\, from 1pm at Bute House\, Edinburgh.\nWhile the genocide in Gaza escalates with the full backing of Trump and Starmer\, Police Scotland continues to arrest more opponents of Israeli mass killing on fake terrorism charges\, send armed police to peaceful protests\, assault\, and wrongfully arrest others.\n\nThe Scottish government has condemned the Israeli genocide and called for boycott and sanctions against the genocidal state\, but it seems to make no difference to Police Scotland’s behaviour.\n\nWe condemn the harassment and arrest of activists and demand the Scottish Government take a stand against the repression of Palestine solidarity.\nOpposing Genocide is Not a Crime!
URL:https://www.scottishpsc.org.uk/event/rally-against-repression-stop-the-genocide/
LOCATION:Bute House\, 5 Charlotte Square\, Edinburgh\, EH2 4DR\, United Kingdom
CATEGORIES:Edinburgh
ATTACH;FMTTYPE=image/jpeg:https://www.scottishpsc.org.uk/wp-content/uploads/2025/10/53228.jpg
END:VEVENT
BEGIN:VEVENT
DTSTART;TZID=Europe/London:20250927T130000
DTEND;TZID=Europe/London:20250927T150000
DTSTAMP:20260423T070659
CREATED:20250924T132554Z
LAST-MODIFIED:20250924T135036Z
UID:10003396-1758978000-1758985200@www.scottishpsc.org.uk
SUMMARY:March to Leonardo: Arms Embargo Now
DESCRIPTION:We will assemble at Waterfront Broadway\, Granton and march to the Leonardo arms factory at 2 Crewe Road North.\nOrganised by Edinburgh Gaza Genocide Emergency Committee (EGGEC). \nLeonardo manufacture and supply the F-35 laser targeting systems which are used to bomb Gaza\, murdering children daily. \n🚨DEMAND ACTION TO END THE GENOCIDE – ARMS EMBARGO NOW! 🚨\n\n📅 SATURDAY 27th Sept \n⏰️ 1pm \n📍 Waterfront Broadway\, Granton \nMARCH TO LEONARDO ✊🏼 \n\nScotland can not continue to be complicit in the genocide in Gaza. It’s time for the Scottish Government to ACT in line with international law and DIVEST FROM GENOCIDE NOW!!\n\n#EndTheGenocideInGaza #Divest #EmbargoNow
URL:https://www.scottishpsc.org.uk/event/eggec-march-to-leo-demo/
LOCATION:Granton Broadway\, Edinburgh\, EH5 1SA\, United Kingdom
CATEGORIES:Edinburgh
ATTACH;FMTTYPE=image/jpeg:https://www.scottishpsc.org.uk/wp-content/uploads/2025/09/51335-1.jpg
END:VEVENT
BEGIN:VEVENT
DTSTART;TZID=Europe/London:20250913T130000
DTEND;TZID=Europe/London:20250913T160000
DTSTAMP:20260423T070659
CREATED:20250830T210459Z
LAST-MODIFIED:20250902T110112Z
UID:10002845-1757768400-1757779200@www.scottishpsc.org.uk
SUMMARY:Scottish National Demonstration: Stop the Annihilation
DESCRIPTION:JOIN US for the National demonstration on Saturday 13 September. MOBILISE as many individuals\, communities\, and organisations as possible\, and COLLABORATE across Scotland for a massive turnout of Scottish civil society.\nGather at the Foot of the Mound\, Edinburgh 1pm \nEND THE GENOCIDE\nEND THE COMPLICITY\nDEFEND OUR RIGHTS TO PROTEST \nGaza Is Being Erased\nStop the Annihilation
URL:https://www.scottishpsc.org.uk/event/scottish-national-demonstration-1309/
LOCATION:Foot of the Mound\, Princes St\, Edinburgh\, EH2 2EL\, United Kingdom
CATEGORIES:National demo
ATTACH;FMTTYPE=image/jpeg:https://www.scottishpsc.org.uk/wp-content/uploads/2025/08/45713.jpg
END:VEVENT
BEGIN:VEVENT
DTSTART;TZID=Europe/London:20250906T120000
DTEND;TZID=Europe/London:20250906T160000
DTSTAMP:20260423T070659
CREATED:20250903T114445Z
LAST-MODIFIED:20250903T114445Z
UID:10002855-1757160000-1757174400@www.scottishpsc.org.uk
SUMMARY:EGGEC: Edinburgh Day of Action
DESCRIPTION:EGGEC will be supporting the following actions on Saturday 6 September:\n12pm: Health Workers for Palestine vigil at Bute House\n\n\n12pm: Stop Rosebank Demo at Queen Elizabeth House\n\n\n2pm: Defend our Juries and Scottish Palestine Solidarity Campaign action at Queen Elizabeth House\nPlease come and support those taking part.
URL:https://www.scottishpsc.org.uk/event/edinburgh-action/
LOCATION:Queen Elizabeth House\, 1 Sibbald Walk\, Edinburgh\, EH8 8FT\, United Kingdom
CATEGORIES:Edinburgh
ATTACH;FMTTYPE=image/jpeg:https://www.scottishpsc.org.uk/wp-content/uploads/2025/09/Screenshot_20250903_114214_Instagram.jpg
END:VEVENT
BEGIN:VEVENT
DTSTART;TZID=Europe/London:20250903T143000
DTEND;TZID=Europe/London:20250903T173000
DTSTAMP:20260423T070659
CREATED:20250903T113157Z
LAST-MODIFIED:20250903T113157Z
UID:10002854-1756909800-1756920600@www.scottishpsc.org.uk
SUMMARY:Emergency Demonstration: Parliamentary Debate
DESCRIPTION:JOIN US in the public gallery during the statement and debate.\nGather at the assembly point – Scottish Parliament\, Edinburgh 2.30pm. \nProtest outside from 4.30pm \nEND THE GENOCIDE\nEND THE COMPLICITY
URL:https://www.scottishpsc.org.uk/event/emerg/
LOCATION:The Scottish Parliament\, Edinburgh\, EH99 1SP\, United Kingdom
CATEGORIES:Edinburgh
ATTACH;FMTTYPE=image/jpeg:https://www.scottishpsc.org.uk/wp-content/uploads/2025/09/IMG-20250902-WA0010.jpg
END:VEVENT
BEGIN:VEVENT
DTSTART;TZID=Europe/London:20250830T130000
DTEND;TZID=Europe/London:20250830T150000
DTSTAMP:20260423T070659
CREATED:20250829T201423Z
LAST-MODIFIED:20250829T201649Z
UID:10002842-1756558800-1756566000@www.scottishpsc.org.uk
SUMMARY:Genocide in Gaza: Time to take Action: March to Bute House
DESCRIPTION:Assemble at the Foot of the Mound at 13.00\nMarch with us to the First Minister’s official residence at Bute House\, 6 Charlotte Square. \nDemand that the Scottish Government TAKE ACTION! \nWords are not enough! \nWith acknowledgement of a genocide comes a moral and legal obligation to ACT! \nTIME TO BOYCOTT \nTIME TO SANCTION \nTIME TO DIVEST \nTIME TO ISOLATE ISRAEL \nEND COMPLICITY NOW
URL:https://www.scottishpsc.org.uk/event/eggec-sat30aug/
LOCATION:Foot of the Mound\, Princes St\, Edinburgh\, EH2 2EL\, United Kingdom
CATEGORIES:Edinburgh
ATTACH;FMTTYPE=image/jpeg:https://www.scottishpsc.org.uk/wp-content/uploads/2025/08/45055.jpg
END:VEVENT
BEGIN:VEVENT
DTSTART;TZID=Europe/London:20250816T123000
DTEND;TZID=Europe/London:20250816T143000
DTSTAMP:20260423T070659
CREATED:20250811T203425Z
LAST-MODIFIED:20250811T203616Z
UID:10002813-1755347400-1755354600@www.scottishpsc.org.uk
SUMMARY:Scottish National Demonstration: End Gaza's Hunger Games
DESCRIPTION:JOIN US FOR THE NATIONAL DEMONSTRATION on Saturday 16 August\nGather at the McLennan Arch\, Glasgow Green at 12.30\, march to city centre at 13.00.\nMASS BOMBING\, DESTRUCTION\, DISPLACEMENT\, SHOOTING AND STARVATION.\n\nDEMAND MASS SANCTIONS NOW TO STOP THE EXTERMINATION OF GAZA.\n\nThe horror genocide continues. Having mass-bombed the Palestinians and their infrastructure\, we now see the systematic\nstarvation of a desperate\, displaced population.\n\nSkeletal babies are dying in front of the world’s eyes\, deprived of the most basic nutrition.\n\nDoctors and aid workers are collapsing from hunger and exhaustion\, unable to help the injured and save lives.\n\nLike scenes from a ‘hunger games’ movie\, people approaching the regime’s death trap ‘aid’ facilities are being shot as they scramble for a paltry bag of flour.\n\nThe whole dystopian spectacle is being watched by the regime’s Western patrons\, refusing to impose economic sanctions and an arms embargo. Starmer\, Lammy and their cohorts belong in The Hague for their direct part in the apocalypse.\n\nPlease show your concerns by marching with empty pots and ‘aid for Gaza’ bags as symbolic statements on the wilful starvation of the Palestinian people.
URL:https://www.scottishpsc.org.uk/event/scottish-national-demonstration/
LOCATION:Glasgow Green\, McLennan Arch\, Saltmarket\, Glasgow\, G1 5JZ\, United Kingdom
CATEGORIES:National demo
ATTACH;FMTTYPE=image/jpeg:https://www.scottishpsc.org.uk/wp-content/uploads/2025/08/Screenshot_20250811_212342_Instagram.jpg
END:VEVENT
BEGIN:VEVENT
DTSTART;TZID=Europe/London:20250719T130000
DTEND;TZID=Europe/London:20250719T160000
DTSTAMP:20260423T070659
CREATED:20250707T121153Z
LAST-MODIFIED:20250718T073937Z
UID:10002250-1752930000-1752940800@www.scottishpsc.org.uk
SUMMARY:Scottish National Demonstration: We Will Not Be Silenced
DESCRIPTION:JOIN US for the National demonstration on Saturday 19 July. MOBILISE as many individuals\, communities\, and organisations as possible\, and COLLABORATE across Scotland for a massive turnout of Scottish civil society.\nGather at the revised assembly point – St Giles\, at Parliament Square\, Edinburgh 1pm. \nAs the genocide in Gaza continues\, Israel’s cruel tactics are reaching ever more heinous levels with not just bombs but starvation and bio-terrorism. \nMeanwhile\, the ethnic cleansing of the West Bank is in full force\, with Likud officials calling for immediate and total annexation. \nThe UK government and institutions have escalated their efforts to shut down Palestine solidarity and hide their involvement in these crimes. \nWe need to consider seriously how we respond with strategic and collective ACTION for PALESTINE ✊🏼🇵🇸 \nORGANISE car shares\, buses\, and group travel on trains from your community to join the demonstration. Make sure your trade union branches turn out in numbers with their banners. \nNOW IS THE TIME for us to show our governments we oppose genocide and refuse to allow them to continue their complicity without opposition! \nEND THE GENOCIDE\nEND THE COMPLICITY\nDEFEND OUR RIGHTS TO PROTEST \nJoin us on 19 July 2025 in Edinburgh.
URL:https://www.scottishpsc.org.uk/event/eggec-nakba-demo-duplicate-1/
LOCATION:St Giles Cathedral\, High Street\, Edinburgh\, EH1 1RE\, United Kingdom
CATEGORIES:National demo
ATTACH;FMTTYPE=image/jpeg:https://www.scottishpsc.org.uk/wp-content/uploads/2025/07/IMG-20250718-WA0001.jpg
END:VEVENT
BEGIN:VEVENT
DTSTART;TZID=Europe/London:20250628T130000
DTEND;TZID=Europe/London:20250628T150000
DTSTAMP:20260423T070659
CREATED:20250622T114114Z
LAST-MODIFIED:20250622T145545Z
UID:10002225-1751115600-1751122800@www.scottishpsc.org.uk
SUMMARY:EMERGENCY DEMO: STOP THE DRIVE TO GLOBAL WAR
DESCRIPTION:STOP THE ILLEGAL BOMBING OF IRAN!\nSTOP THE DRIVE TO GLOBAL WAR!\nNo more wars for genocidal Israel!\nSanction Israel’s nuclear weapons! \n 
URL:https://www.scottishpsc.org.uk/event/global/
LOCATION:Foot of the Mound\, Princes St\, Edinburgh\, EH2 2EL\, United Kingdom
CATEGORIES:Edinburgh
ATTACH;FMTTYPE=image/jpeg:https://www.scottishpsc.org.uk/wp-content/uploads/2025/06/IMG-20250622-WA0007-1.jpg
END:VEVENT
BEGIN:VEVENT
DTSTART;TZID=Europe/London:20250623T173000
DTEND;TZID=Europe/London:20250623T193000
DTSTAMP:20260423T070659
CREATED:20250622T113249Z
LAST-MODIFIED:20250622T145152Z
UID:10002223-1750699800-1750707000@www.scottishpsc.org.uk
SUMMARY:EMERGENCY DEMO: No More Wars for Genocidal Israel
DESCRIPTION:STOP THE ILLEGAL BOMBING OF IRAN!\nSTOP THE DRIVE TO GLOBAL WAR!\nNo more wars for genocidal Israel!\nSanction Israel’s nuclear weapons! \n 
URL:https://www.scottishpsc.org.uk/event/emergency-demo-23jun/
LOCATION:Foot of the Mound\, Princes St\, Edinburgh\, EH2 2EL\, United Kingdom
CATEGORIES:Edinburgh
ATTACH;FMTTYPE=image/jpeg:https://www.scottishpsc.org.uk/wp-content/uploads/2025/06/IMG-20250622-WA0005.jpg
END:VEVENT
BEGIN:VEVENT
DTSTART;TZID=Europe/London:20250621T100000
DTEND;TZID=Europe/London:20250621T120000
DTSTAMP:20260423T070659
CREATED:20250617T220140Z
LAST-MODIFIED:20250620T175509Z
UID:10002216-1750500000-1750507200@www.scottishpsc.org.uk
SUMMARY:EGGEC: March to Leonardo & Demo
DESCRIPTION:It is the time to put more pressure on Leonardo and the UK Government.\nOrganised by Edinburgh Gaza Genocide Emergency Committee (EGGEC). \nWe will assemble at Waterfront Broadway\, Granton and march to the Leonardo arms factory at 2 Crewe Road North for a demo with a range of speakers. \nLeonardo manufacture and supply the F-35 laser targeting systems which are used to bomb Gaza\, murdering children daily.
URL:https://www.scottishpsc.org.uk/event/eggec-arms-factory-demo21/
LOCATION:Granton Broadway\, Edinburgh\, EH5 1SA\, United Kingdom
CATEGORIES:Edinburgh
ATTACH;FMTTYPE=image/jpeg:https://www.scottishpsc.org.uk/wp-content/uploads/2025/06/WhatsApp-Image-2025-06-19-at-14.09.161.jpeg
END:VEVENT
BEGIN:VEVENT
DTSTART;TZID=Europe/London:20250614T123000
DTEND;TZID=Europe/London:20250614T150000
DTSTAMP:20260423T070659
CREATED:20250610T170329Z
LAST-MODIFIED:20250610T170344Z
UID:10001926-1749904200-1749913200@www.scottishpsc.org.uk
SUMMARY:National Demo in Glasgow
DESCRIPTION:Remember Gaza’s lost men\nEnd support for the genocide\nDefend the right to resist \nThis coming Father’s Day\, we gather in red to honour all the men slaughtered in Gaza\, to demand decisive sanctions against Israel\, forcing it to halt the extermination\, and to assert the internationally-recognised right of all Palestinians to resist their genocidal elimination. \nRED clothes for the bloodstained genocide \nRED emergency measures to halt the genocide \nRED line resistance to end the genocide \n📅 Saturday 14 June\n🕧 Gather\, 12.30pm\, March\, 1pm\n📍 Glasgow Green\, McLennan Arch\n🚨 Dress in red
URL:https://www.scottishpsc.org.uk/event/7695/
LOCATION:Glasgow Green\, McLennan Arch\, Saltmarket\, Glasgow\, G1 5JZ\, United Kingdom
CATEGORIES:Glasgow,National demo
ATTACH;FMTTYPE=image/jpeg:https://www.scottishpsc.org.uk/wp-content/uploads/2025/06/WhatsApp-Image-2025-06-04-at-11.33.50.jpeg
END:VEVENT
BEGIN:VEVENT
DTSTART;TZID=Europe/London:20250604T113000
DTEND;TZID=Europe/London:20250604T123000
DTSTAMP:20260423T070659
CREATED:20250602T102107Z
LAST-MODIFIED:20250602T102107Z
UID:10000750-1749036600-1749040200@www.scottishpsc.org.uk
SUMMARY:EGGEC Demo - Red Line For Gaza
DESCRIPTION:RED LINE FOR GAZA.\nFROM EDINBURGH 🏴󠁧󠁢󠁳󠁣󠁴󠁿 TO PALESTINE 🇵🇸. ARMS EMBARGO NOW!\n\nWe call upon all of you to wear 🔻RED🔻so we can line the UK Government building in a river to symbolise the bloodshed that both the UK and Scottish government are complicit in from arms trades and sales to grants and funding.\n\nEnough is enough. Now we must rise. ✊\n\n🗓️ Wednesday 4th June\n⏰ 11:30AM\n📍 Edinburgh\, UK GOV Building at EH8 8FT
URL:https://www.scottishpsc.org.uk/event/red/
LOCATION:Queen Elizabeth House\, 1 Sibbald Walk\, Edinburgh\, EH8 8FT\, United Kingdom
CATEGORIES:Edinburgh
ATTACH;FMTTYPE=image/jpeg:https://www.scottishpsc.org.uk/wp-content/uploads/2025/06/1000124060.jpg
END:VEVENT
BEGIN:VEVENT
DTSTART;TZID=Europe/London:20250531T130000
DTEND;TZID=Europe/London:20250531T150000
DTSTAMP:20260423T070659
CREATED:20250528T203222Z
LAST-MODIFIED:20250528T203222Z
UID:10000747-1748696400-1748703600@www.scottishpsc.org.uk
SUMMARY:EGGEC Arms Factory Demo
DESCRIPTION:Now is the time to put more pressure on Leonardo and the UK Government. \nAssemble at Leonardo arms factory\, 2 Crewe Road North\, EH5 2XS at 1pm. \nLeonardo manufacture and supply the F-35 laser targeting systems which are used to bomb Gaza\, murdering children daily.
URL:https://www.scottishpsc.org.uk/event/eggec-leonardo/
LOCATION:Leonardo\, 2 Crewe Road North\, Edinburgh\, Midlothian\, EH5 2XS\, United Kingdom
CATEGORIES:Edinburgh
ATTACH;FMTTYPE=image/jpeg:https://www.scottishpsc.org.uk/wp-content/uploads/2025/05/Screenshot_20250528_210829_Instagram.jpg
END:VEVENT
BEGIN:VEVENT
DTSTART;TZID=Europe/London:20250517T133000
DTEND;TZID=Europe/London:20250517T163000
DTSTAMP:20260423T070659
CREATED:20250515T104659Z
LAST-MODIFIED:20250515T104659Z
UID:10000732-1747488600-1747499400@www.scottishpsc.org.uk
SUMMARY:EGGEC NAKBA Demo
DESCRIPTION:Assemble at the Foot of the Mound EH2 2EL and march to Scottish Parliament EH99 1SP \nIn May 1948\, 77 years ago\, 750\,000 Palestinians were expelled from their homes through violence and force by Israel. This was ethnic cleansing. This period is referred to as aitill\, or the Nakba\, meaning catastrophe in Arabic. On Monday\, just two days ago\, “Prime Minister Benjamin Netanyahu said Gaza’s more than two million people “will be moved” in a new ground offensive that will involve Israeli troops holding on to seized territory\, establishing a “sustained presence” in Gaza.” \n19 months of brutal murder\, 60 days of a complete blockade on every single piece of food and medicine\, and now plans announced for a Nakba of an even greater scale. What word can describe something bigger than a catastrophe? \nAnd all we get from our politicians are platitudes while they give taxpayer money to Iz-reel. Enough is enough. \nJoin us 17 May\, 2025 in Edinburgh. \nSpecial guest speakers will include Mustafa Barghouti\, Palestinian physician and politician and Neil Barnes\, who will speak on the intersections of sports and Palestine in Scotland.
URL:https://www.scottishpsc.org.uk/event/eggec-nakba-demo/
LOCATION:Foot of the Mound\, Princes St\, Edinburgh\, EH2 2EL\, United Kingdom
CATEGORIES:National demo
ATTACH;FMTTYPE=image/jpeg:https://www.scottishpsc.org.uk/wp-content/uploads/2025/05/IMG_3584.jpeg
END:VEVENT
BEGIN:VEVENT
DTSTART;TZID=Europe/London:20250408T120000
DTEND;TZID=Europe/London:20250408T133000
DTSTAMP:20260423T070659
CREATED:20250406T203023Z
LAST-MODIFIED:20250406T203023Z
UID:10000161-1744113600-1744119000@www.scottishpsc.org.uk
SUMMARY:Emergency Demo
DESCRIPTION:Demand a ceasefire!
URL:https://www.scottishpsc.org.uk/event/emergency-demo/
LOCATION:Queen Elizabeth House\, 1 Sibbald Walk\, Edinburgh\, EH8 8FT\, United Kingdom
CATEGORIES:Edinburgh
ATTACH;FMTTYPE=image/jpeg:https://www.scottishpsc.org.uk/wp-content/uploads/2025/04/WhatsApp-Image-2025-04-06-at-10.58.31.jpeg
END:VEVENT
END:VCALENDAR