BEGIN:VCALENDAR
VERSION:2.0
PRODID:-//Scottish Palestine Solidarity Campaign - ECPv6.15.13//NONSGML v1.0//EN
CALSCALE:GREGORIAN
METHOD:PUBLISH
X-WR-CALNAME:Scottish Palestine Solidarity Campaign
X-ORIGINAL-URL:https://www.scottishpsc.org.uk
X-WR-CALDESC:Events for Scottish Palestine Solidarity Campaign
REFRESH-INTERVAL;VALUE=DURATION:PT1H
X-Robots-Tag:noindex
X-PUBLISHED-TTL:PT1H
BEGIN:VTIMEZONE
TZID:Europe/London
BEGIN:DAYLIGHT
TZOFFSETFROM:+0000
TZOFFSETTO:+0100
TZNAME:BST
DTSTART:20240331T010000
END:DAYLIGHT
BEGIN:STANDARD
TZOFFSETFROM:+0100
TZOFFSETTO:+0000
TZNAME:GMT
DTSTART:20241027T010000
END:STANDARD
BEGIN:DAYLIGHT
TZOFFSETFROM:+0000
TZOFFSETTO:+0100
TZNAME:BST
DTSTART:20250330T010000
END:DAYLIGHT
BEGIN:STANDARD
TZOFFSETFROM:+0100
TZOFFSETTO:+0000
TZNAME:GMT
DTSTART:20251026T010000
END:STANDARD
BEGIN:DAYLIGHT
TZOFFSETFROM:+0000
TZOFFSETTO:+0100
TZNAME:BST
DTSTART:20260329T010000
END:DAYLIGHT
BEGIN:STANDARD
TZOFFSETFROM:+0100
TZOFFSETTO:+0000
TZNAME:GMT
DTSTART:20261025T010000
END:STANDARD
END:VTIMEZONE
BEGIN:VEVENT
DTSTART;TZID=Europe/London:20250623T173000
DTEND;TZID=Europe/London:20250623T193000
DTSTAMP:20260423T084355
CREATED:20250622T113249Z
LAST-MODIFIED:20250622T145152Z
UID:10002223-1750699800-1750707000@www.scottishpsc.org.uk
SUMMARY:EMERGENCY DEMO: No More Wars for Genocidal Israel
DESCRIPTION:STOP THE ILLEGAL BOMBING OF IRAN!\nSTOP THE DRIVE TO GLOBAL WAR!\nNo more wars for genocidal Israel!\nSanction Israel’s nuclear weapons! \n 
URL:https://www.scottishpsc.org.uk/event/emergency-demo-23jun/
LOCATION:Foot of the Mound\, Princes St\, Edinburgh\, EH2 2EL\, United Kingdom
CATEGORIES:Edinburgh
ATTACH;FMTTYPE=image/jpeg:https://www.scottishpsc.org.uk/wp-content/uploads/2025/06/IMG-20250622-WA0005.jpg
END:VEVENT
BEGIN:VEVENT
DTSTART;TZID=Europe/London:20250621T100000
DTEND;TZID=Europe/London:20250621T120000
DTSTAMP:20260423T084355
CREATED:20250617T220140Z
LAST-MODIFIED:20250620T175509Z
UID:10002216-1750500000-1750507200@www.scottishpsc.org.uk
SUMMARY:EGGEC: March to Leonardo & Demo
DESCRIPTION:It is the time to put more pressure on Leonardo and the UK Government.\nOrganised by Edinburgh Gaza Genocide Emergency Committee (EGGEC). \nWe will assemble at Waterfront Broadway\, Granton and march to the Leonardo arms factory at 2 Crewe Road North for a demo with a range of speakers. \nLeonardo manufacture and supply the F-35 laser targeting systems which are used to bomb Gaza\, murdering children daily.
URL:https://www.scottishpsc.org.uk/event/eggec-arms-factory-demo21/
LOCATION:Granton Broadway\, Edinburgh\, EH5 1SA\, United Kingdom
CATEGORIES:Edinburgh
ATTACH;FMTTYPE=image/jpeg:https://www.scottishpsc.org.uk/wp-content/uploads/2025/06/WhatsApp-Image-2025-06-19-at-14.09.161.jpeg
END:VEVENT
BEGIN:VEVENT
DTSTART;TZID=Europe/London:20250614T123000
DTEND;TZID=Europe/London:20250614T150000
DTSTAMP:20260423T084355
CREATED:20250610T170329Z
LAST-MODIFIED:20250610T170344Z
UID:10001926-1749904200-1749913200@www.scottishpsc.org.uk
SUMMARY:National Demo in Glasgow
DESCRIPTION:Remember Gaza’s lost men\nEnd support for the genocide\nDefend the right to resist \nThis coming Father’s Day\, we gather in red to honour all the men slaughtered in Gaza\, to demand decisive sanctions against Israel\, forcing it to halt the extermination\, and to assert the internationally-recognised right of all Palestinians to resist their genocidal elimination. \nRED clothes for the bloodstained genocide \nRED emergency measures to halt the genocide \nRED line resistance to end the genocide \n📅 Saturday 14 June\n🕧 Gather\, 12.30pm\, March\, 1pm\n📍 Glasgow Green\, McLennan Arch\n🚨 Dress in red
URL:https://www.scottishpsc.org.uk/event/7695/
LOCATION:Glasgow Green\, McLennan Arch\, Saltmarket\, Glasgow\, G1 5JZ\, United Kingdom
CATEGORIES:Glasgow,National demo
ATTACH;FMTTYPE=image/jpeg:https://www.scottishpsc.org.uk/wp-content/uploads/2025/06/WhatsApp-Image-2025-06-04-at-11.33.50.jpeg
END:VEVENT
BEGIN:VEVENT
DTSTART;TZID=Europe/London:20250604T113000
DTEND;TZID=Europe/London:20250604T123000
DTSTAMP:20260423T084355
CREATED:20250602T102107Z
LAST-MODIFIED:20250602T102107Z
UID:10000750-1749036600-1749040200@www.scottishpsc.org.uk
SUMMARY:EGGEC Demo - Red Line For Gaza
DESCRIPTION:RED LINE FOR GAZA.\nFROM EDINBURGH 🏴󠁧󠁢󠁳󠁣󠁴󠁿 TO PALESTINE 🇵🇸. ARMS EMBARGO NOW!\n\nWe call upon all of you to wear 🔻RED🔻so we can line the UK Government building in a river to symbolise the bloodshed that both the UK and Scottish government are complicit in from arms trades and sales to grants and funding.\n\nEnough is enough. Now we must rise. ✊\n\n🗓️ Wednesday 4th June\n⏰ 11:30AM\n📍 Edinburgh\, UK GOV Building at EH8 8FT
URL:https://www.scottishpsc.org.uk/event/red/
LOCATION:Queen Elizabeth House\, 1 Sibbald Walk\, Edinburgh\, EH8 8FT\, United Kingdom
CATEGORIES:Edinburgh
ATTACH;FMTTYPE=image/jpeg:https://www.scottishpsc.org.uk/wp-content/uploads/2025/06/1000124060.jpg
END:VEVENT
BEGIN:VEVENT
DTSTART;TZID=Europe/London:20250531T130000
DTEND;TZID=Europe/London:20250531T150000
DTSTAMP:20260423T084355
CREATED:20250528T203222Z
LAST-MODIFIED:20250528T203222Z
UID:10000747-1748696400-1748703600@www.scottishpsc.org.uk
SUMMARY:EGGEC Arms Factory Demo
DESCRIPTION:Now is the time to put more pressure on Leonardo and the UK Government. \nAssemble at Leonardo arms factory\, 2 Crewe Road North\, EH5 2XS at 1pm. \nLeonardo manufacture and supply the F-35 laser targeting systems which are used to bomb Gaza\, murdering children daily.
URL:https://www.scottishpsc.org.uk/event/eggec-leonardo/
LOCATION:Leonardo\, 2 Crewe Road North\, Edinburgh\, Midlothian\, EH5 2XS\, United Kingdom
CATEGORIES:Edinburgh
ATTACH;FMTTYPE=image/jpeg:https://www.scottishpsc.org.uk/wp-content/uploads/2025/05/Screenshot_20250528_210829_Instagram.jpg
END:VEVENT
BEGIN:VEVENT
DTSTART;TZID=Europe/London:20250517T133000
DTEND;TZID=Europe/London:20250517T163000
DTSTAMP:20260423T084355
CREATED:20250515T104659Z
LAST-MODIFIED:20250515T104659Z
UID:10000732-1747488600-1747499400@www.scottishpsc.org.uk
SUMMARY:EGGEC NAKBA Demo
DESCRIPTION:Assemble at the Foot of the Mound EH2 2EL and march to Scottish Parliament EH99 1SP \nIn May 1948\, 77 years ago\, 750\,000 Palestinians were expelled from their homes through violence and force by Israel. This was ethnic cleansing. This period is referred to as aitill\, or the Nakba\, meaning catastrophe in Arabic. On Monday\, just two days ago\, “Prime Minister Benjamin Netanyahu said Gaza’s more than two million people “will be moved” in a new ground offensive that will involve Israeli troops holding on to seized territory\, establishing a “sustained presence” in Gaza.” \n19 months of brutal murder\, 60 days of a complete blockade on every single piece of food and medicine\, and now plans announced for a Nakba of an even greater scale. What word can describe something bigger than a catastrophe? \nAnd all we get from our politicians are platitudes while they give taxpayer money to Iz-reel. Enough is enough. \nJoin us 17 May\, 2025 in Edinburgh. \nSpecial guest speakers will include Mustafa Barghouti\, Palestinian physician and politician and Neil Barnes\, who will speak on the intersections of sports and Palestine in Scotland.
URL:https://www.scottishpsc.org.uk/event/eggec-nakba-demo/
LOCATION:Foot of the Mound\, Princes St\, Edinburgh\, EH2 2EL\, United Kingdom
CATEGORIES:National demo
ATTACH;FMTTYPE=image/jpeg:https://www.scottishpsc.org.uk/wp-content/uploads/2025/05/IMG_3584.jpeg
END:VEVENT
BEGIN:VEVENT
DTSTART;TZID=Europe/London:20250408T120000
DTEND;TZID=Europe/London:20250408T133000
DTSTAMP:20260423T084355
CREATED:20250406T203023Z
LAST-MODIFIED:20250406T203023Z
UID:10000161-1744113600-1744119000@www.scottishpsc.org.uk
SUMMARY:Emergency Demo
DESCRIPTION:Demand a ceasefire!
URL:https://www.scottishpsc.org.uk/event/emergency-demo/
LOCATION:Queen Elizabeth House\, 1 Sibbald Walk\, Edinburgh\, EH8 8FT\, United Kingdom
CATEGORIES:Edinburgh
ATTACH;FMTTYPE=image/jpeg:https://www.scottishpsc.org.uk/wp-content/uploads/2025/04/WhatsApp-Image-2025-04-06-at-10.58.31.jpeg
END:VEVENT
END:VCALENDAR