BEGIN:VCALENDAR
VERSION:2.0
PRODID:-//Scottish Palestine Solidarity Campaign - ECPv6.15.13//NONSGML v1.0//EN
CALSCALE:GREGORIAN
METHOD:PUBLISH
X-WR-CALNAME:Scottish Palestine Solidarity Campaign
X-ORIGINAL-URL:https://www.scottishpsc.org.uk
X-WR-CALDESC:Events for Scottish Palestine Solidarity Campaign
REFRESH-INTERVAL;VALUE=DURATION:PT1H
X-Robots-Tag:noindex
X-PUBLISHED-TTL:PT1H
BEGIN:VTIMEZONE
TZID:Europe/London
BEGIN:DAYLIGHT
TZOFFSETFROM:+0000
TZOFFSETTO:+0100
TZNAME:BST
DTSTART:20240331T010000
END:DAYLIGHT
BEGIN:STANDARD
TZOFFSETFROM:+0100
TZOFFSETTO:+0000
TZNAME:GMT
DTSTART:20241027T010000
END:STANDARD
BEGIN:DAYLIGHT
TZOFFSETFROM:+0000
TZOFFSETTO:+0100
TZNAME:BST
DTSTART:20250330T010000
END:DAYLIGHT
BEGIN:STANDARD
TZOFFSETFROM:+0100
TZOFFSETTO:+0000
TZNAME:GMT
DTSTART:20251026T010000
END:STANDARD
BEGIN:DAYLIGHT
TZOFFSETFROM:+0000
TZOFFSETTO:+0100
TZNAME:BST
DTSTART:20260329T010000
END:DAYLIGHT
BEGIN:STANDARD
TZOFFSETFROM:+0100
TZOFFSETTO:+0000
TZNAME:GMT
DTSTART:20261025T010000
END:STANDARD
BEGIN:DAYLIGHT
TZOFFSETFROM:+0000
TZOFFSETTO:+0100
TZNAME:BST
DTSTART:20270328T010000
END:DAYLIGHT
BEGIN:STANDARD
TZOFFSETFROM:+0100
TZOFFSETTO:+0000
TZNAME:GMT
DTSTART:20271031T010000
END:STANDARD
END:VTIMEZONE
BEGIN:VEVENT
DTSTART;TZID=Europe/London:20260128T180000
DTEND;TZID=Europe/London:20260128T193000
DTSTAMP:20260424T143827
CREATED:20260120T174908Z
LAST-MODIFIED:20260120T174908Z
UID:10004155-1769623200-1769628600@www.scottishpsc.org.uk
SUMMARY:Argyll & Bute - regional branch meeting (online)
DESCRIPTION:The A&B branch is spread over a huge geographical area\, so we now meet monthly (online) for a regional meeting.\nMembers from across all of Argyll come together to share our experiences\, ideas\, campaign actions and support.\nNew members welcome\, we will link you in with your nearest group for in person meetings\, events and actions too.\nEmail argyllandbute@scottishpsc.org.uk for joining link (zoom)
URL:https://www.scottishpsc.org.uk/event/argyll-bute-regional-branch-meeting-online-2/
ATTACH;FMTTYPE=image/jpeg:https://www.scottishpsc.org.uk/wp-content/uploads/2024/12/2.jpg
ORGANIZER;CN="SPSC Argyll & Bute Branch":MAILTO:argyllandbute@scottishpsc.org.uk
END:VEVENT
BEGIN:VEVENT
DTSTART;TZID=Europe/London:20260128T180000
DTEND;TZID=Europe/London:20260128T193000
DTSTAMP:20260424T143827
CREATED:20251123T122710Z
LAST-MODIFIED:20260120T175122Z
UID:10004154-1769623200-1769628600@www.scottishpsc.org.uk
SUMMARY:Argyll & Bute - regional branch meeting (online)
DESCRIPTION:The A&B branch is spread over a huge geographical area\, so we now meet monthly (online) for a regional meeting.\nMembers from across all of Argyll come together to share our experiences\, ideas\, campaign actions and support.\nNew members welcome\, we will link you in with your nearest group for in person meetings\, events and actions too.\nEmail argyllandbute@scottishpsc.org.uk for joining link (zoom)
URL:https://www.scottishpsc.org.uk/event/argyll-bute-regional-branch-meeting-online/
CATEGORIES:Argyll and Bute
ATTACH;FMTTYPE=image/jpeg:https://www.scottishpsc.org.uk/wp-content/uploads/2024/12/2.jpg
ORGANIZER;CN="SPSC Argyll & Bute Branch":MAILTO:argyllandbute@scottishpsc.org.uk
END:VEVENT
BEGIN:VEVENT
DTSTART;TZID=Europe/London:20251125T180000
DTEND;TZID=Europe/London:20251125T193000
DTSTAMP:20260424T143827
CREATED:20251123T121829Z
LAST-MODIFIED:20251123T121829Z
UID:10003735-1764093600-1764099000@www.scottishpsc.org.uk
SUMMARY:Argyll & Bute - regional branch meeting
DESCRIPTION:The A&B branch is spread over a huge geographical area\, so we now meet monthly (online) for a regional meeting. Members from across all of Argyll come together to share our experiences\, ideas\, campaign actions and support.\nNew members welcome\, we will link you in with your nearest group for in person meetings\, events and actions too.\nEmail argyllandbute@scottishpsc.org.uk for joining link (zoom)
URL:https://www.scottishpsc.org.uk/event/argyll-bute-regional-branch-meeting/
CATEGORIES:Argyll and Bute
ATTACH;FMTTYPE=image/jpeg:https://www.scottishpsc.org.uk/wp-content/uploads/2024/12/2.jpg
ORGANIZER;CN="SPSC Argyll & Bute Branch":MAILTO:argyllandbute@scottishpsc.org.uk
END:VEVENT
BEGIN:VEVENT
DTSTART;TZID=Europe/London:20251118T183000
DTEND;TZID=Europe/London:20251118T203000
DTSTAMP:20260424T143827
CREATED:20251111T205538Z
LAST-MODIFIED:20251111T205538Z
UID:10003720-1763490600-1763497800@www.scottishpsc.org.uk
SUMMARY:Film Screening: Jenin Jenin : Lochgilphead
DESCRIPTION:All welcome\nCome along the Mid Argyll Youth Development Services – MAYDS – building for 6.30pm to watch the documentary film Jenin Jenin\, and stay for tea and discussion after the film. \n\nMarch 2002: The Israeli troops have marched into the Palestinian refugee camp of Jenin\, razing the largest part of the camp to the ground and killing scores of civilians. Israel has been accused of committing war crimes\, prompting the United Nations to assign an independent commission to visit the camp. But Israel has forbidden it.\n\n\nDirector Mohammed Bakri visits the demolished camp and interviews survivors of all ages. Jenin\, Jenin is dedicated to the memory of Iyad Samudi\, the film’s executive producer\, who was shot and killed after the production of the film was wrapped.\n\n\nLong banned by the Israeli Film Board\, Mohammad Bakri’s poignant documentary remains a powerful statement on the plight of the Palestinians in their continuous quest for liberation.\n\n\nFree to attend – donations welcomed\, and there will be SPSC merchandise such as t-shirts\, books and other wee items for sale.
URL:https://www.scottishpsc.org.uk/event/film-screening-jenin-jenin-lochgilphead/
LOCATION:MAYDS\, 55a Union Street\, Lochgilphead\, PA318JS\, United Kingdom
CATEGORIES:Argyll and Bute
ATTACH;FMTTYPE=image/jpeg:https://www.scottishpsc.org.uk/wp-content/uploads/2025/11/jenin.jpg
ORGANIZER;CN="SPSC Argyll & Bute Branch":MAILTO:argyllandbute@scottishpsc.org.uk
END:VEVENT
BEGIN:VEVENT
DTSTART;TZID=Europe/London:20251116T180000
DTEND;TZID=Europe/London:20251116T193000
DTSTAMP:20260424T143827
CREATED:20251111T210043Z
LAST-MODIFIED:20251111T210043Z
UID:10003721-1763316000-1763321400@www.scottishpsc.org.uk
SUMMARY:Mull\, Fionnphort and Iona : Candelit Vigil
DESCRIPTION:Join us at Tobermory Clock Tower\, Iona Jetty or Fionnphort Pier from 6pm.\nIn memory of the children and their families killed in Palestine. Please bring a candle or message of solidarity.\n 
URL:https://www.scottishpsc.org.uk/event/mull-fionnphort-and-iona-candelit-vigil/
LOCATION:Tobermory Clock Tower\, Main Street\, Tobermory\, PA756NT\, United Kingdom
CATEGORIES:Argyll and Bute
ATTACH;FMTTYPE=image/jpeg:https://www.scottishpsc.org.uk/wp-content/uploads/2025/11/Vigil.jpg
ORGANIZER;CN="SPSC Argyll & Bute Branch":MAILTO:argyllandbute@scottishpsc.org.uk
END:VEVENT
BEGIN:VEVENT
DTSTART;TZID=Europe/London:20251028T180000
DTEND;TZID=Europe/London:20251028T193000
DTSTAMP:20260424T143827
CREATED:20251022T190913Z
LAST-MODIFIED:20251022T190913Z
UID:10003438-1761674400-1761679800@www.scottishpsc.org.uk
SUMMARY:Argyll & Bute - Branch Meeting
DESCRIPTION:New members\, volunteers\, supporters welcome! Come along and meet with branch members from around Argyll\, either in person in Lochgilphead\, or online on Zoom.\nHear about national campaigns\, local actions and events. Join us to help us grow support for Palestine throughout Argyll. \nEmail argyllandbute@scottishpsc.org.uk to request the zoom meeting link \n  \nLast Tuesday of every month.
URL:https://www.scottishpsc.org.uk/event/argyll-bute-branch-meeting-3/
LOCATION:MAYDS\, 55a Union Street\, Lochgilphead\, PA318JS\, United Kingdom
CATEGORIES:Argyll and Bute
ATTACH;FMTTYPE=image/jpeg:https://www.scottishpsc.org.uk/wp-content/uploads/2024/12/2.jpg
ORGANIZER;CN="SPSC Argyll & Bute Branch":MAILTO:argyllandbute@scottishpsc.org.uk
END:VEVENT
BEGIN:VEVENT
DTSTART;TZID=Europe/London:20251025T130000
DTEND;TZID=Europe/London:20251025T140000
DTSTAMP:20260424T143827
CREATED:20251023T215958Z
LAST-MODIFIED:20251023T222953Z
UID:10003441-1761397200-1761400800@www.scottishpsc.org.uk
SUMMARY:Home Bargains Day of Action - ARGYLL AND BUTE
DESCRIPTION:Join us and demand NO BARGAINS WITH GENOCIDE! Help build the pressure with our Day of Action at Home Bargains. Inform and encourage shoppers to boycott many Israeli-made products and promote our letter to the owner of Home Bargains. \nJOIN US: \nSaturday 25th Oct\, 1-2pm \nGibraltar Street\, PA34 4HN \nThe Israeli factories which make Dead Sea Products\, Pure Baby and various other wet wipes\, skin care & cleaning products are operating on illegally occupied land and using vast amounts of water resources which are stolen from Palestinian towns. \nHome Bargains continues to stock Israeli goods despite the UN Commission findings that Israel is committing genocide against the people of Palestine. The demand to cease trading with Israel and follow UN guidelines made to the owner of Home Bargains\, Tom Morris\, by over 1000 customers has so far been ignored. We must increase the pressure! \nWhat can you do now?\n– join a Home Bargains action in your area\n– ⁠Sign the letter to the owner of Home Bargains\n– ⁠join the SPSC \n 
URL:https://www.scottishpsc.org.uk/event/home-bargains-day-of-action-argyll-and-bute-duplicate-1/
LOCATION:Gibraltar Street\, Oban\, PA34 4HN\, United Kingdom
CATEGORIES:Argyll and Bute
ATTACH;FMTTYPE=image/jpeg:https://www.scottishpsc.org.uk/wp-content/uploads/2025/10/WhatsApp-HB-leaflet.jpg
ORGANIZER;CN="SPSC Argyll & Bute Branch":MAILTO:argyllandbute@scottishpsc.org.uk
END:VEVENT
BEGIN:VEVENT
DTSTART;TZID=Europe/London:20250927T140000
DTEND;TZID=Europe/London:20250927T140000
DTSTAMP:20260424T143827
CREATED:20250925T000738Z
LAST-MODIFIED:20250925T000738Z
UID:10003404-1758981600-1758981600@www.scottishpsc.org.uk
SUMMARY:Home Bargains Day of Action - ARGYLL AND BUTE
DESCRIPTION:Join us and demand NO BARGAINS WITH GENOCIDE! Help build the pressure with our Day of Action at Home Bargains. Inform and encourage shoppers to boycott many Israeli-made products and promote our letter to the owner of Home Bargains. \nJOIN US: \nSaturday 27th Sep\, 2pm \nOban\, Lochavuillin Industrial Estate\, PA34 4BW \nThe Israeli factories which make Dead Sea Products\, Pure Baby and various other wet wipes\, skin care & cleaning products are operating on illegally occupied land and using vast amounts of water resources which are stolen from Palestinian towns. \nHome Bargains continues to stock Israeli goods despite the UN Commission findings that Israel is committing genocide against the people of Palestine. The demand to cease trading with Israel and follow UN guidelines made to the owner of Home Bargains\, Tom Morris\, by over 1000 customers has so far been ignored. We must increase the pressure! \nWhat can you do now?\n– join a Home Bargains action in your area\n– ⁠Sign the letter to the owner of Home Bargains\n– ⁠join the SPSC \n 
URL:https://www.scottishpsc.org.uk/event/home-bargains-day-of-action-perth-duplicate-1/
LOCATION:Oban Home Bargains\, Lochavuillin industrial Estate\, Oban\, PA34 4BW\, United Kingdom
CATEGORIES:Argyll and Bute
ORGANIZER;CN="SPSC Argyll & Bute Branch":MAILTO:argyllandbute@scottishpsc.org.uk
END:VEVENT
BEGIN:VEVENT
DTSTART;TZID=Europe/London:20250907T183000
DTEND;TZID=Europe/London:20250907T190000
DTSTAMP:20260424T143827
CREATED:20250814T151452Z
LAST-MODIFIED:20250814T151641Z
UID:10002823-1757269800-1757271600@www.scottishpsc.org.uk
SUMMARY:Isle of Mull - Community Meeting & Demo - Weekly
DESCRIPTION:Solidarity is growing and organising on the Isle of Mull.\nJoin us every Sunday from 6.30pm at the Tower Clock in Tobermory.\nMeet like minded people and gather together to make your voice heard. Show your resistance to UK government complicity in the genocide and enforced famine in Gaza. Bring your pot and a big spoon to make big noise. \n  \n\n  \nArgyll & Bute SPSC welcomes new members and ideas. We are a busy branch\, who support each other with activities and actions all around Argyll and in our local towns. We meet online and in person and host regular events. 
URL:https://www.scottishpsc.org.uk/event/isle-of-mull-community-meeting-demo-weekly/2025-09-07/
LOCATION:Tobermory Clock Tower\, Main Street\, Tobermory\, PA756NT\, United Kingdom
CATEGORIES:Argyll and Bute
ATTACH;FMTTYPE=image/png:https://www.scottishpsc.org.uk/wp-content/uploads/2025/08/1_20250801_223957_0000.png
ORGANIZER;CN="SPSC Argyll & Bute Branch":MAILTO:argyllandbute@scottishpsc.org.uk
END:VEVENT
BEGIN:VEVENT
DTSTART;TZID=Europe/London:20250831T183000
DTEND;TZID=Europe/London:20250831T190000
DTSTAMP:20260424T143827
CREATED:20250814T151452Z
LAST-MODIFIED:20250814T151641Z
UID:10002822-1756665000-1756666800@www.scottishpsc.org.uk
SUMMARY:Isle of Mull - Community Meeting & Demo - Weekly
DESCRIPTION:Solidarity is growing and organising on the Isle of Mull.\nJoin us every Sunday from 6.30pm at the Tower Clock in Tobermory.\nMeet like minded people and gather together to make your voice heard. Show your resistance to UK government complicity in the genocide and enforced famine in Gaza. Bring your pot and a big spoon to make big noise. \n  \n\n  \nArgyll & Bute SPSC welcomes new members and ideas. We are a busy branch\, who support each other with activities and actions all around Argyll and in our local towns. We meet online and in person and host regular events. 
URL:https://www.scottishpsc.org.uk/event/isle-of-mull-community-meeting-demo-weekly/2025-08-31/
LOCATION:Tobermory Clock Tower\, Main Street\, Tobermory\, PA756NT\, United Kingdom
CATEGORIES:Argyll and Bute
ATTACH;FMTTYPE=image/png:https://www.scottishpsc.org.uk/wp-content/uploads/2025/08/1_20250801_223957_0000.png
ORGANIZER;CN="SPSC Argyll & Bute Branch":MAILTO:argyllandbute@scottishpsc.org.uk
END:VEVENT
BEGIN:VEVENT
DTSTART;TZID=Europe/London:20250830T110000
DTEND;TZID=Europe/London:20250830T150000
DTSTAMP:20260424T143827
CREATED:20250705T123314Z
LAST-MODIFIED:20250705T123314Z
UID:10002242-1756551600-1756566000@www.scottishpsc.org.uk
SUMMARY:Resistance in Rural Scotland
DESCRIPTION:Activism looks different in rural areas.\nThere are unique contexts\, challenges and logistics to consider.  \nAre you keen to be involved in campaigning but not sure how to go about it in your local area?\nHave you felt isolated in your support for the rights of Palestinian people?\nAre you part of a group that has stories\, experiences or successes to share?\nWe want to hear about it! \nAs the UK government and Police Scotland increase their suppression of our rights to protest\, we need to be informed and united in our resistance. \n  \n\n  \n  \nArgyll & Bute branch welcome you to the Three Villages Hall in Arrochar\, for an afternoon of talks\, workshops and networking.\nHear from SPSC members who have recently visited occupied Palestine and will share important messages from the people they met there \nJoin a workshop from the Scottish Community and Activists Legal Project to ensure that you Know Your Rights \nLearn about current campaigns that YOU can share in your local community\, or join from home \nNetwork and chat with like minded people \n  \n  \n\n  \nPlease arrive for an 11am start. \nThere is limited car parking at the hall\, with on street or paid car parks nearby. \nWe’ll have a full programme until around 3pm –  a light lunch is included in the registration fee of £6pp. \nThere will be merchandise\, t-shirts\, books on sale on the day and donations to the SPSC No One Left Behind fighting fund are gratefully received. \n  \n  \n  \n  \n  \nPlease buy your ticket here : https://square.link/u/kbiWSSBv \nSpaces are limited so we recommend booking your ticket in advance – before booking your travel or accommodation.\nPlease email argyllandbute@scottishpsc.org.uk with any queries\, accessibility or dietary needs beforehand so we can do our best to accommodate. 
URL:https://www.scottishpsc.org.uk/event/resistance-in-rural-scotland/
LOCATION:Three Villages Hall\, Shore Road\, Arrochar\, G837AB\, United Kingdom
CATEGORIES:Argyll and Bute,Borders,Dundee,Edinburgh,Forth Valley,Glasgow,Lanarkshire,Moray,Perth and Kinross,West Lothian
ATTACH;FMTTYPE=image/png:https://www.scottishpsc.org.uk/wp-content/uploads/2025/07/Rural-Event-30th-August-AB_20250705_132031_0000-2.png
ORGANIZER;CN="SPSC Argyll & Bute Branch":MAILTO:argyllandbute@scottishpsc.org.uk
END:VEVENT
BEGIN:VEVENT
DTSTART;TZID=Europe/London:20250824T183000
DTEND;TZID=Europe/London:20250824T190000
DTSTAMP:20260424T143827
CREATED:20250814T151452Z
LAST-MODIFIED:20250814T151641Z
UID:10002821-1756060200-1756062000@www.scottishpsc.org.uk
SUMMARY:Isle of Mull - Community Meeting & Demo - Weekly
DESCRIPTION:Solidarity is growing and organising on the Isle of Mull.\nJoin us every Sunday from 6.30pm at the Tower Clock in Tobermory.\nMeet like minded people and gather together to make your voice heard. Show your resistance to UK government complicity in the genocide and enforced famine in Gaza. Bring your pot and a big spoon to make big noise. \n  \n\n  \nArgyll & Bute SPSC welcomes new members and ideas. We are a busy branch\, who support each other with activities and actions all around Argyll and in our local towns. We meet online and in person and host regular events. 
URL:https://www.scottishpsc.org.uk/event/isle-of-mull-community-meeting-demo-weekly/2025-08-24/
LOCATION:Tobermory Clock Tower\, Main Street\, Tobermory\, PA756NT\, United Kingdom
CATEGORIES:Argyll and Bute
ATTACH;FMTTYPE=image/png:https://www.scottishpsc.org.uk/wp-content/uploads/2025/08/1_20250801_223957_0000.png
ORGANIZER;CN="SPSC Argyll & Bute Branch":MAILTO:argyllandbute@scottishpsc.org.uk
END:VEVENT
BEGIN:VEVENT
DTSTART;TZID=Europe/London:20250819T180000
DTEND;TZID=Europe/London:20250819T193000
DTSTAMP:20260424T143827
CREATED:20250808T091959Z
LAST-MODIFIED:20250811T193927Z
UID:10002812-1755626400-1755631800@www.scottishpsc.org.uk
SUMMARY:Online: Eman Alhaj Ali Tour - We Wont be Silenced
DESCRIPTION:Scottish PSC presents: \nEman Al Haj Ali – We won’t be silenced\nA personal story of resisting Israel’s attempts to close down Palestinian voices\nLive Stream on Zoom – 19th August – 6 pm \nEman Alhaj Ali is a Palestinian freelance journalist\, writer\, translator\, and storyteller from Gaza and is currently based in Ireland. Her writings appeared on a variety of international and local websites\, such as the New Arab\, the Electronic Intifada\, Al Jazeera English\, the Nation\, Mondoweiss\, the Middle East Eye and many others. She is a member of “We Are Not Numbers” and contributed to a variety of books and anthologies\, such as “We Were Seeds”. \nJoin us to hear Eman speak on her recent experiences in Gaza\, the deliberate targeting of Palestinian journalists\, and how the struggle to share the story of the genocide with the world continues. The talk will be followed by Q&A and discussion \n  \nYou can register for the online livestream on 19th August at 6pm here: https://us02web.zoom.us/meeting/register/2W8p09pUQaOw0GJA_4IJOw \n  \nWe recommend booking in advance and logging on a little early to test your sound settings. \n  \n 
URL:https://www.scottishpsc.org.uk/event/online-eman-alhaj-ali-tour-we-wont-be-silenced/
LOCATION:Webinar\, Webinar\, United Kingdom
CATEGORIES:Online event,Speaker tour
ATTACH;FMTTYPE=image/png:https://www.scottishpsc.org.uk/wp-content/uploads/2025/08/Eman-Al-Haj-Ali.png
ORGANIZER;CN="SPSC Argyll & Bute Branch":MAILTO:argyllandbute@scottishpsc.org.uk
END:VEVENT
BEGIN:VEVENT
DTSTART;TZID=Europe/London:20250819T174500
DTEND;TZID=Europe/London:20250819T193000
DTSTAMP:20260424T143827
CREATED:20250808T091408Z
LAST-MODIFIED:20250808T091408Z
UID:10002810-1755625500-1755631800@www.scottishpsc.org.uk
SUMMARY:Dunoon: Eman Alhaj Ali Tour - We Wont be Silenced
DESCRIPTION:Scottish PSC presents: \nEman Al Haj Ali – We won’t be silenced\nA personal story of resisting Israel’s attempts to close down Palestinian voices\nIn the Argyll Suite\, Queen’s Hall\, Dunoon – 19th August – come along from 5.45pm\, event starts at 6pm \nEman Alhaj Ali is a Palestinian freelance journalist\, writer\, translator\, and storyteller from Gaza and currently based in Ireland. Her writings appeared on a variety of international and local websites\, such as the New Arab\, the Electronic Intifada\, Al Jazeera English\, the Nation\, Mondoweiss\, the Middle East Eye and many others\, . She is a member of We Are Not Numbers\, and contributed to a variety of books and anthologies\, such as “We Were Seeds” and “We Are Not Numbers”. \nJoin us to hear Eman speak on her recent experiences in Gaza\, the deliberate targeting of Palestinian journalists\, and how the struggle to share the story of the genocide with the world continues. The talk will be followed by Q&A and discussion. \n  \n Please book your ticket here:  \nEman Alhaj Ali – Speaker event Eman Alhaj Ali – Speaker event (Dunoon) Tickets\, Tue\, Aug 19\, 2025 at 5:45 PM |  \n  \nYou can register for the online livestream on 19th August at 6pm here: https://us02web.zoom.us/meeting/register/2W8p09pUQaOw0GJA_4IJOw \n  \nWe recommend booking in advance as spaces are limited! \n  \n 
URL:https://www.scottishpsc.org.uk/event/dunoon-eman-alhaj-ali-tour-we-wont-be-silenced/
LOCATION:Queen’s Hall\, 9 Argyll Street\, Dunoon\, PA23 7HH\, United Kingdom
CATEGORIES:Argyll and Bute,Speaker tour
ATTACH;FMTTYPE=image/png:https://www.scottishpsc.org.uk/wp-content/uploads/2025/08/Eman-Al-Haj-Ali.png
ORGANIZER;CN="SPSC Argyll & Bute Branch":MAILTO:argyllandbute@scottishpsc.org.uk
END:VEVENT
BEGIN:VEVENT
DTSTART;TZID=Europe/London:20250817T183000
DTEND;TZID=Europe/London:20250817T190000
DTSTAMP:20260424T143827
CREATED:20250814T151452Z
LAST-MODIFIED:20250814T151641Z
UID:10002819-1755455400-1755457200@www.scottishpsc.org.uk
SUMMARY:Isle of Mull - Community Meeting & Demo - Weekly
DESCRIPTION:Solidarity is growing and organising on the Isle of Mull.\nJoin us every Sunday from 6.30pm at the Tower Clock in Tobermory.\nMeet like minded people and gather together to make your voice heard. Show your resistance to UK government complicity in the genocide and enforced famine in Gaza. Bring your pot and a big spoon to make big noise. \n  \n\n  \nArgyll & Bute SPSC welcomes new members and ideas. We are a busy branch\, who support each other with activities and actions all around Argyll and in our local towns. We meet online and in person and host regular events. 
URL:https://www.scottishpsc.org.uk/event/isle-of-mull-community-meeting-demo-weekly/2025-08-17/
LOCATION:Tobermory Clock Tower\, Main Street\, Tobermory\, PA756NT\, United Kingdom
CATEGORIES:Argyll and Bute
ATTACH;FMTTYPE=image/png:https://www.scottishpsc.org.uk/wp-content/uploads/2025/08/1_20250801_223957_0000.png
ORGANIZER;CN="SPSC Argyll & Bute Branch":MAILTO:argyllandbute@scottishpsc.org.uk
END:VEVENT
BEGIN:VEVENT
DTSTART;TZID=Europe/London:20250628T110000
DTEND;TZID=Europe/London:20250628T160000
DTSTAMP:20260424T143827
CREATED:20250627T102838Z
LAST-MODIFIED:20250627T132812Z
UID:10002231-1751108400-1751126400@www.scottishpsc.org.uk
SUMMARY:Home Bargains National Day of Action
DESCRIPTION:On Saturday 28th June we are launching our No Bargains with Genocide campaign targeting Home Bargains. \nHome Bargains are the fastest growing retailer in the UK and stock an alarming amount of Israeli made skin care\, cleaning products\, baby products and wet wipes. All made using water which is illegally stolen from Palestinians (see our statement for further details) \nJoin us at one of our 8 actions across Scotland to say No Bargains with Genocide! \nLocations: \nAberdeen: Beach Boulevard Retail Park\, Aberdeen AB11 5EJ @ 11am \nArgyll & Bute: Lochavullin Industrial Estate\, Lochavullin Dr\, Oban PA34 4BW @ 2pm \nDundee: The Stack Retail & Leisure Park\, Harefield Rd\, Dundee DD2 3XN @ 12pm \nEdinburgh: Meadowbank Shopping Park Moray Park Terrace Morray\, Park Terrace\, Edinburgh EH7 5TS @ 2pm \nGlasgow: West End Retail Park\, Crow Rd\, Glasgow G11 7RY @ 2pm \nLanarkshire: Hamilton West Retail Park\, Unit 3 Douglas Park Ln\, Hamilton ML3 0DF @ 2pm \nPerth: Saint Catherines Retail Park\, St Catherine’s Rd\, Perth PH1 5XA @ 2pm \nScottish Borders: Stirling St\, Galashiels TD1 1BY @ 2pm
URL:https://www.scottishpsc.org.uk/event/home-bargains-national-day-of-action/
LOCATION:Augustine\, The Ark\, Quaker House\, Edinburgh\, Glasgow\, Aberdeen\, United Kingdom
CATEGORIES:Aberdeen,Argyll and Bute,Borders,Dundee,Edinburgh,Glasgow,Lanarkshire,Perth and Kinross
ATTACH;FMTTYPE=image/png:https://www.scottishpsc.org.uk/wp-content/uploads/2025/06/Home-Bargains-Banner.png
ORGANIZER;CN="Scottish Palestine Solidarity Campaign":MAILTO:info@scottishpsc.org.uk
END:VEVENT
BEGIN:VEVENT
DTSTART;TZID=Europe/London:20250506T180000
DTEND;TZID=Europe/London:20250506T193000
DTSTAMP:20260424T143827
CREATED:20250405T081403Z
LAST-MODIFIED:20250405T081403Z
UID:10000160-1746554400-1746559800@www.scottishpsc.org.uk
SUMMARY:First Picture Documentary Film Screening Tour
DESCRIPTION:Screenings and Q&A with director in Glasgow\, Edinburgh\, Perth\, Aberdeen\, Forres and Ardrishaig. \nWelcome to the FIRST PICTURE DOCUMENTARY FILM SCREENING event. \nThis is a national tour throughout Scotland with the following dates and locations: \n\nFriday\, 18th April @7pm – CCA\, Glasgow.\nWednesday\, 23rd April @ 7pm – St Augustines\, Edinburgh\nThursday\, 24th April @ 7pm – ESOL\, Perth\nTuesday\, 29th April @7pm – Quaker Meeting Hall\, Aberdeen\nWednesday\, 30th April @ 7pm – The Courtroom\, Forres\nTuesday\, 6th May @ 6pm – Ardrishaig Village Hall\, Ardrishaig\n\nPalestinian Prisoner’s Day is marked each year on the 17th of April\, and the situation for prisoners in Israel’s torture jails has never been more urgent\, as we see systematic physical\, sexual & emotional abuse as well as the rising death toll of detainees\, including the first child. \nThis year\, Scottish PSC will screen the documentary ‘First Picture’ (2006) by Akram Al-Ashqar\, who is doing his PhD in film at the University of Glasgow\, at locations across Scotland. Akram will join us for Q&A sessions following the film. \nFirst Picture (2006) tells the story of a Palestinian child born in one of the Israeli Occupations prisons. He is released without his mother after nearly 3 years in prison. Set in Tulkarm Camp for Palestinian refugees\, the film follows this child’s life as he is reunited with the rest of his family and formally imprisoned friends of his mother. \nAt the time of writing\, there are 9500 political prisoners\, including 350 child prisoners. Walid Ahmad was one of those children and was killed in March of this year\, following 6 months of detention without charge. He was just 17 years old. His body\, as is policy of the occupying forces\, has been withheld from his family. \nJoin us as we discuss the film\, the current situation for Palestinian prisoners & what we can do in Scotland to build effective solidarity. \nBook your ticket here \n 
URL:https://www.scottishpsc.org.uk/event/first-picture-documentary-film-screening-tour-6/
LOCATION:Ardrishaig Village Hall\, 43 Chalmers Street\, Ardrishaig\, Lochgilphead\, PA30 8EY\, United Kingdom
CATEGORIES:Argyll and Bute,Speaker tour
ATTACH;FMTTYPE=image/avif:https://www.scottishpsc.org.uk/wp-content/uploads/2025/04/FirstPictureFilmTour.avif
ORGANIZER;CN="SPSC Argyll & Bute Branch":MAILTO:argyllandbute@scottishpsc.org.uk
END:VEVENT
BEGIN:VEVENT
DTSTART;TZID=Europe/London:20250424T183000
DTEND;TZID=Europe/London:20250424T210000
DTSTAMP:20260424T143827
CREATED:20250418T121534Z
LAST-MODIFIED:20250418T121534Z
UID:10000174-1745519400-1745528400@www.scottishpsc.org.uk
SUMMARY:Campbeltown - In Person Shanshula Film Screening & Webinar
DESCRIPTION:Argyll & Bute branch are hosting an in person community meeting to watch the film Shanshula and to join the online live discussions. \nPlease come along to the Chambers Room of Campbeltown Town Hall –  at 6.30pm. \nFree entry and light refreshments – donations are welcomed. Donations to the Sheffield PSC crisis fund\, which directly supports the fishing community in Gaza who are featured in the film. \nWe will have a small selection of t-shirts\, books etc for sale\, raising funds for the Scottish PSC. \n  \n——————————————————————————————————————————————————————————— \nIf you are unable to come along in person\, the film and webinar is being shown online – full information can be found here – scottishpsc.org.uk/event/shanshula-webinar/ \n 
URL:https://www.scottishpsc.org.uk/event/campbeltown-in-person-shanshula-film-screening-webinar/
LOCATION:Campeltown Town Hall\, 54 Main Street\, Campbeltown\, Argyll & Bute\, PA28 6AB\, United Kingdom
CATEGORIES:Argyll and Bute
ATTACH;FMTTYPE=image/png:https://www.scottishpsc.org.uk/wp-content/uploads/2025/04/Shanshula-Webinar-AB-screening-e1744138193127.png
ORGANIZER;CN="SPSC Argyll & Bute Branch":MAILTO:argyllandbute@scottishpsc.org.uk
END:VEVENT
END:VCALENDAR