BEGIN:VCALENDAR
VERSION:2.0
PRODID:-//Scottish Palestine Solidarity Campaign - ECPv6.15.13//NONSGML v1.0//EN
CALSCALE:GREGORIAN
METHOD:PUBLISH
X-ORIGINAL-URL:https://www.scottishpsc.org.uk
X-WR-CALDESC:Events for Scottish Palestine Solidarity Campaign
REFRESH-INTERVAL;VALUE=DURATION:PT1H
X-Robots-Tag:noindex
X-PUBLISHED-TTL:PT1H
BEGIN:VTIMEZONE
TZID:Europe/London
BEGIN:DAYLIGHT
TZOFFSETFROM:+0000
TZOFFSETTO:+0100
TZNAME:BST
DTSTART:20250330T010000
END:DAYLIGHT
BEGIN:STANDARD
TZOFFSETFROM:+0100
TZOFFSETTO:+0000
TZNAME:GMT
DTSTART:20251026T010000
END:STANDARD
BEGIN:DAYLIGHT
TZOFFSETFROM:+0000
TZOFFSETTO:+0100
TZNAME:BST
DTSTART:20260329T010000
END:DAYLIGHT
BEGIN:STANDARD
TZOFFSETFROM:+0100
TZOFFSETTO:+0000
TZNAME:GMT
DTSTART:20261025T010000
END:STANDARD
BEGIN:DAYLIGHT
TZOFFSETFROM:+0000
TZOFFSETTO:+0100
TZNAME:BST
DTSTART:20270328T010000
END:DAYLIGHT
BEGIN:STANDARD
TZOFFSETFROM:+0100
TZOFFSETTO:+0000
TZNAME:GMT
DTSTART:20271031T010000
END:STANDARD
END:VTIMEZONE
BEGIN:VEVENT
DTSTART;TZID=Europe/London:20260410T180000
DTEND;TZID=Europe/London:20260410T190000
DTSTAMP:20260423T210133
CREATED:20260310T211413Z
LAST-MODIFIED:20260314T211925Z
UID:10004614-1775844000-1775847600@www.scottishpsc.org.uk
SUMMARY:Olive Growing in Palestine: Stories of everyday resistance
DESCRIPTION:BOOK LAUNCH: Olive Growing in Palestine: Stories of everyday resistance\nPalestinian researcher Juman Simaan’s book follows the lives of four families and dozens of individuals in the West Bank who grow olives as both livelihood and resistance.   \nThis groundbreaking work sheds light on the indigenous Palestinian concepts of Sutra\, ‘Awna and Sumud\, and the ways in which these shape how olive farmers resist in everyday ways and in concert with each other\, with international supporters\, and with the more-than-human world against the forces seeking to divorce them from their land and their trees. \nThese grassroots Palestinian ways of doing\, being and becoming bring communities\, activists and scholars new tools to counter global forces of discrimination\, imperialism\, white supremacy and the human-made climate crisis. \nJuman Simaan is a Palestinian who lives in Glasgow. He is an Associate Professor of occupational therapy at Edinburgh Napier University. Juman is interested in understanding the everyday lives and daily resistance of Global South communities\, and people who are marginalised by structural forces such as the nation state\, capitalism\, racism and trans and homophobia. \nWith a special guest joining the event online: Mahmoud Soliman\, Palestinian activist-scholar-farmer\, who will be joining us online to discuss the current daily lives of farmers and shepherds in the West Bank of Palestine. \nBOOK TICKETS
URL:https://www.scottishpsc.org.uk/event/stories-of-everyday-resistance/
LOCATION:Palestine Museum Scotland\, 13A Dundas Street\, EH3 6QG\, United Kingdom
CATEGORIES:Edinburgh
ATTACH;FMTTYPE=image/png:https://www.scottishpsc.org.uk/wp-content/uploads/2026/03/Olive.png
END:VEVENT
END:VCALENDAR