BEGIN:VCALENDAR
VERSION:2.0
PRODID:-//Scottish Palestine Solidarity Campaign - ECPv6.15.13//NONSGML v1.0//EN
CALSCALE:GREGORIAN
METHOD:PUBLISH
X-ORIGINAL-URL:https://www.scottishpsc.org.uk
X-WR-CALDESC:Events for Scottish Palestine Solidarity Campaign
REFRESH-INTERVAL;VALUE=DURATION:PT1H
X-Robots-Tag:noindex
X-PUBLISHED-TTL:PT1H
BEGIN:VTIMEZONE
TZID:Europe/London
BEGIN:DAYLIGHT
TZOFFSETFROM:+0000
TZOFFSETTO:+0100
TZNAME:BST
DTSTART:20240331T010000
END:DAYLIGHT
BEGIN:STANDARD
TZOFFSETFROM:+0100
TZOFFSETTO:+0000
TZNAME:GMT
DTSTART:20241027T010000
END:STANDARD
BEGIN:DAYLIGHT
TZOFFSETFROM:+0000
TZOFFSETTO:+0100
TZNAME:BST
DTSTART:20250330T010000
END:DAYLIGHT
BEGIN:STANDARD
TZOFFSETFROM:+0100
TZOFFSETTO:+0000
TZNAME:GMT
DTSTART:20251026T010000
END:STANDARD
BEGIN:DAYLIGHT
TZOFFSETFROM:+0000
TZOFFSETTO:+0100
TZNAME:BST
DTSTART:20260329T010000
END:DAYLIGHT
BEGIN:STANDARD
TZOFFSETFROM:+0100
TZOFFSETTO:+0000
TZNAME:GMT
DTSTART:20261025T010000
END:STANDARD
END:VTIMEZONE
BEGIN:VEVENT
DTSTART;TZID=Europe/London:20250622T110000
DTEND;TZID=Europe/London:20250622T170000
DTSTAMP:20260421T054138
CREATED:20250620T062140Z
LAST-MODIFIED:20250620T062140Z
UID:10002220-1750590000-1750611600@www.scottishpsc.org.uk
SUMMARY:SPSC stall at Eid on the Terrace
DESCRIPTION:Organised jointly by AMIC\, Masjid Alhikmah\, Crown Terrace\, Turkish Mosque and Aberdeen Muslims\, Eid on the Terrace will be held on Sunday 22nd June 2025 11:00am – 5:00pm in Union Terrace Gardens\, Union Terrace\, Aberdeen AB10 1NJ. \nThis will be a free fun and family event with Bouncy Castles & Kids Play\,  Clothes Stalls\,  Food and Snack Stalls\,  Henna and Facepaint etc.  \nSPSC will also be there with a stall so come and visit us!
URL:https://www.scottishpsc.org.uk/event/spsc-stall-at-eid-on-the-terrace/
LOCATION:Union Terrace Gardens\, Union Terrace\, ABERDEEN\, AB10 1NJ\, United Kingdom
CATEGORIES:Aberdeen
END:VEVENT
END:VCALENDAR